Workbook

Sheet README
A1: Equipment Tracker - SAMPLE/DEMO TEMPLATE (fictional data, not client work)
A2: 1. Lists: edit Locations, Containers/Vehicles and Statuses.
A3: 2. Equipment: one row per item; Location/Container/Status are dropdowns; colours show status.
A4: 3. Dashboard: counts per location x status update automatically.
A5: 4. Manifest: pick a location or container in B1 to get a printable list (up to 150 items).
A6: Import into Google Sheets: File > Import > Upload. Dropdowns and formulas carry over.

Sheet Lists
A1: Locations | B1: Containers/Vehicles | C1: Statuses
A2: Location 01 | B2: Van 1 | C2: Available
A3: Location 02 | B3: Van 2 | C3: In Use
A4: Location 03 | B4: Truck 1 | C4: In Repair
A5: Location 04 | B5: Trailer A | C5: Missing
A6: Location 05 | B6: Container C1 | C6: Retired
A7: Location 06 | B7: Container C2
A8: Location 07 | B8: Shelf / Loose
A9: Location 08
A10: Location 09
A11: Location 10
A12: Location 11
A13: Location 12

Sheet Equipment
A1: Asset ID | B1: Item | C1: Category | D1: Location | E1: Container/Vehicle | F1: Status | G1: Qty | H1: Serial # | I1: Last Checked | J1: Notes | K1: Manifest #
A2: EQ-0001 | B2: Hand truck | C2: Moving | D2: Location 03 | E2: Trailer A | F2: In Use | G2: 1 | H2: SN80239 | I2: 46299 | K2: =IF(AND(A2<>"",OR(D2=Manifest!$B$1,E2=Manifest!$B$1)),MAX(K$1:K1)+1,"")
A3: EQ-0002 | B3: Hand truck | C3: Moving | D3: Location 10 | E3: Van 1 | F3: Missing | G3: 2 | H3: SN14914 | I3: 46298 | K3: =IF(AND(A3<>"",OR(D3=Manifest!$B$1,E3=Manifest!$B$1)),MAX(K$1:K2)+1,"")
A4: EQ-0003 | B4: Moving blankets (pack) | C4: Moving | D4: Location 07 | E4: Van 1 | F4: Available | G4: 5 | H4: SN65642 | I4: 46297 | K4: =IF(AND(A4<>"",OR(D4=Manifest!$B$1,E4=Manifest!$B$1)),MAX(K$1:K3)+1,"")
A5: EQ-0004 | B5: Hard hats (box) | C5: PPE | D5: Location 02 | E5: Van 2 | F5: In Use | G5: 5 | H5: SN18108 | I5: 46314 | K5: =IF(AND(A5<>"",OR(D5=Manifest!$B$1,E5=Manifest!$B$1)),MAX(K$1:K4)+1,"")
A6: EQ-0005 | B6: Hard hats (box) | C6: PPE | D6: Location 07 | E6: Van 1 | F6: Retired | G6: 1 | H6: SN82963 | I6: 46323 | K6: =IF(AND(A6<>"",OR(D6=Manifest!$B$1,E6=Manifest!$B$1)),MAX(K$1:K5)+1,"")
A7: EQ-0006 | B7: Extension cord 50ft | C7: Power | D7: Location 05 | E7: Trailer A | F7: Available | G7: 1 | H7: SN84830 | I7: 46305 | K7: =IF(AND(A7<>"",OR(D7=Manifest!$B$1,E7=Manifest!$B$1)),MAX(K$1:K6)+1,"")
A8: EQ-0007 | B8: Safety vests (box) | C8: PPE | D8: Location 11 | E8: Van 2 | F8: Available | G8: 5 | H8: SN93743 | I8: 46302 | K8: =IF(AND(A8<>"",OR(D8=Manifest!$B$1,E8=Manifest!$B$1)),MAX(K$1:K7)+1,"")
A9: EQ-0008 | B9: Hand truck | C9: Moving | D9: Location 02 | E9: Container C1 | F9: In Use | G9: 5 | H9: SN17812 | I9: 46315 | K9: =IF(AND(A9<>"",OR(D9=Manifest!$B$1,E9=Manifest!$B$1)),MAX(K$1:K8)+1,"")
A10: EQ-0009 | B10: Drill kit | C10: Tools | D10: Location 08 | E10: Container C2 | F10: Available | G10: 3 | H10: SN71027 | I10: 46314 | K10: =IF(AND(A10<>"",OR(D10=Manifest!$B$1,E10=Manifest!$B$1)),MAX(K$1:K9)+1,"")
A11: EQ-0010 | B11: Tarp 20x30 | C11: Cover | D11: Location 06 | E11: Truck 1 | F11: Available | G11: 2 | H11: SN41994 | I11: 46298 | K11: =IF(AND(A11<>"",OR(D11=Manifest!$B$1,E11=Manifest!$B$1)),MAX(K$1:K10)+1,"")
A12: EQ-0011 | B12: Hard hats (box) | C12: PPE | D12: Location 05 | E12: Container C1 | F12: Available | G12: 3 | H12: SN68829 | I12: 46305 | K12: =IF(AND(A12<>"",OR(D12=Manifest!$B$1,E12=Manifest!$B$1)),MAX(K$1:K11)+1,"")
A13: EQ-0012 | B13: Hard hats (box) | C13: PPE | D13: Location 02 | E13: Van 1 | F13: Available | G13: 2 | H13: SN54833 | I13: 46300 | K13: =IF(AND(A13<>"",OR(D13=Manifest!$B$1,E13=Manifest!$B$1)),MAX(K$1:K12)+1,"")
... A61: EQ-0060 | B61: Safety vests (box) | C61: PPE | D61: Location 09 | E61: Shelf / Loose | F61: Available | G61: 2 | H61: SN78578 | I61: 46324 | K61: =IF(AND(A61<>"",OR(D61=Manifest!$B$1,E61=Manifest!$B$1)),MAX(K$1:K60)+1,"")
K62: =IF(AND(A62<>"",OR(D62=Manifest!$B$1,E62=Manifest!$B$1)),MAX(K$1:K61)+1,"")
K63: =IF(AND(A63<>"",OR(D63=Manifest!$B$1,E63=Manifest!$B$1)),MAX(K$1:K62)+1,"")
K64: =IF(AND(A64<>"",OR(D64=Manifest!$B$1,E64=Manifest!$B$1)),MAX(K$1:K63)+1,"")
K65: =IF(AND(A65<>"",OR(D65=Manifest!$B$1,E65=Manifest!$B$1)),MAX(K$1:K64)+1,"")
K66: =IF(AND(A66<>"",OR(D66=Manifest!$B$1,E66=Manifest!$B$1)),MAX(K$1:K65)+1,"")
K67: =IF(AND(A67<>"",OR(D67=Manifest!$B$1,E67=Manifest!$B$1)),MAX(K$1:K66)+1,"")
K68: =IF(AND(A68<>"",OR(D68=Manifest!$B$1,E68=Manifest!$B$1)),MAX(K$1:K67)+1,"")
K69: =IF(AND(A69<>"",OR(D69=Manifest!$B$1,E69=Manifest!$B$1)),MAX(K$1:K68)+1,"")
K70: =IF(AND(A70<>"",OR(D70=Manifest!$B$1,E70=Manifest!$B$1)),MAX(K$1:K69)+1,"")
K71: =IF(AND(A71<>"",OR(D71=Manifest!$B$1,E71=Manifest!$B$1)),MAX(K$1:K70)+1,"")
K72: =IF(AND(A72<>"",OR(D72=Manifest!$B$1,E72=Manifest!$B$1)),MAX(K$1:K71)+1,"")
K73: =IF(AND(A73<>"",OR(D73=Manifest!$B$1,E73=Manifest!$B$1)),MAX(K$1:K72)+1,"")
... K500: =IF(AND(A500<>"",OR(D500=Manifest!$B$1,E500=Manifest!$B$1)),MAX(K$1:K499)+1,"")

Sheet Dashboard
A1: Location | B1: Available | C1: In Use | D1: In Repair | E1: Missing | F1: Retired | G1: Total items | H1: Total qty | J1: Items not checked in 30+ days
A2: =Lists!A2 | B2: =COUNTIFS(Equipment!$D:$D,$A2,Equipment!$F:$F,B$1) | C2: =COUNTIFS(Equipment!$D:$D,$A2,Equipment!$F:$F,C$1) | D2: =COUNTIFS(Equipment!$D:$D,$A2,Equipment!$F:$F,D$1) | E2: =COUNTIFS(Equipment!$D:$D,$A2,Equipment!$F:$F,E$1) | F2: =COUNTIFS(Equipment!$D:$D,$A2,Equipment!$F:$F,F$1) | G2: =COUNTIF(Equipment!$D:$D,$A2) | H2: =SUMIF(Equipment!$D:$D,$A2,Equipment!$G:$G) | J2: =COUNTIFS(Equipment!I:I,"<"&TODAY()-30,Equipment!A:A,"<>")
A3: =Lists!A3 | B3: =COUNTIFS(Equipment!$D:$D,$A3,Equipment!$F:$F,B$1) | C3: =COUNTIFS(Equipment!$D:$D,$A3,Equipment!$F:$F,C$1) | D3: =COUNTIFS(Equipment!$D:$D,$A3,Equipment!$F:$F,D$1) | E3: =COUNTIFS(Equipment!$D:$D,$A3,Equipment!$F:$F,E$1) | F3: =COUNTIFS(Equipment!$D:$D,$A3,Equipment!$F:$F,F$1) | G3: =COUNTIF(Equipment!$D:$D,$A3) | H3: =SUMIF(Equipment!$D:$D,$A3,Equipment!$G:$G)
A4: =Lists!A4 | B4: =COUNTIFS(Equipment!$D:$D,$A4,Equipment!$F:$F,B$1) | C4: =COUNTIFS(Equipment!$D:$D,$A4,Equipment!$F:$F,C$1) | D4: =COUNTIFS(Equipment!$D:$D,$A4,Equipment!$F:$F,D$1) | E4: =COUNTIFS(Equipment!$D:$D,$A4,Equipment!$F:$F,E$1) | F4: =COUNTIFS(Equipment!$D:$D,$A4,Equipment!$F:$F,F$1) | G4: =COUNTIF(Equipment!$D:$D,$A4) | H4: =SUMIF(Equipment!$D:$D,$A4,Equipment!$G:$G)
A5: =Lists!A5 | B5: =COUNTIFS(Equipment!$D:$D,$A5,Equipment!$F:$F,B$1) | C5: =COUNTIFS(Equipment!$D:$D,$A5,Equipment!$F:$F,C$1) | D5: =COUNTIFS(Equipment!$D:$D,$A5,Equipment!$F:$F,D$1) | E5: =COUNTIFS(Equipment!$D:$D,$A5,Equipment!$F:$F,E$1) | F5: =COUNTIFS(Equipment!$D:$D,$A5,Equipment!$F:$F,F$1) | G5: =COUNTIF(Equipment!$D:$D,$A5) | H5: =SUMIF(Equipment!$D:$D,$A5,Equipment!$G:$G)
A6: =Lists!A6 | B6: =COUNTIFS(Equipment!$D:$D,$A6,Equipment!$F:$F,B$1) | C6: =COUNTIFS(Equipment!$D:$D,$A6,Equipment!$F:$F,C$1) | D6: =COUNTIFS(Equipment!$D:$D,$A6,Equipment!$F:$F,D$1) | E6: =COUNTIFS(Equipment!$D:$D,$A6,Equipment!$F:$F,E$1) | F6: =COUNTIFS(Equipment!$D:$D,$A6,Equipment!$F:$F,F$1) | G6: =COUNTIF(Equipment!$D:$D,$A6) | H6: =SUMIF(Equipment!$D:$D,$A6,Equipment!$G:$G)
A7: =Lists!A7 | B7: =COUNTIFS(Equipment!$D:$D,$A7,Equipment!$F:$F,B$1) | C7: =COUNTIFS(Equipment!$D:$D,$A7,Equipment!$F:$F,C$1) | D7: =COUNTIFS(Equipment!$D:$D,$A7,Equipment!$F:$F,D$1) | E7: =COUNTIFS(Equipment!$D:$D,$A7,Equipment!$F:$F,E$1) | F7: =COUNTIFS(Equipment!$D:$D,$A7,Equipment!$F:$F,F$1) | G7: =COUNTIF(Equipment!$D:$D,$A7) | H7: =SUMIF(Equipment!$D:$D,$A7,Equipment!$G:$G)
A8: =Lists!A8 | B8: =COUNTIFS(Equipment!$D:$D,$A8,Equipment!$F:$F,B$1) | C8: =COUNTIFS(Equipment!$D:$D,$A8,Equipment!$F:$F,C$1) | D8: =COUNTIFS(Equipment!$D:$D,$A8,Equipment!$F:$F,D$1) | E8: =COUNTIFS(Equipment!$D:$D,$A8,Equipment!$F:$F,E$1) | F8: =COUNTIFS(Equipment!$D:$D,$A8,Equipment!$F:$F,F$1) | G8: =COUNTIF(Equipment!$D:$D,$A8) | H8: =SUMIF(Equipment!$D:$D,$A8,Equipment!$G:$G)
A9: =Lists!A9 | B9: =COUNTIFS(Equipment!$D:$D,$A9,Equipment!$F:$F,B$1) | C9: =COUNTIFS(Equipment!$D:$D,$A9,Equipment!$F:$F,C$1) | D9: =COUNTIFS(Equipment!$D:$D,$A9,Equipment!$F:$F,D$1) | E9: =COUNTIFS(Equipment!$D:$D,$A9,Equipment!$F:$F,E$1) | F9: =COUNTIFS(Equipment!$D:$D,$A9,Equipment!$F:$F,F$1) | G9: =COUNTIF(Equipment!$D:$D,$A9) | H9: =SUMIF(Equipment!$D:$D,$A9,Equipment!$G:$G)
A10: =Lists!A10 | B10: =COUNTIFS(Equipment!$D:$D,$A10,Equipment!$F:$F,B$1) | C10: =COUNTIFS(Equipment!$D:$D,$A10,Equipment!$F:$F,C$1) | D10: =COUNTIFS(Equipment!$D:$D,$A10,Equipment!$F:$F,D$1) | E10: =COUNTIFS(Equipment!$D:$D,$A10,Equipment!$F:$F,E$1) | F10: =COUNTIFS(Equipment!$D:$D,$A10,Equipment!$F:$F,F$1) | G10: =COUNTIF(Equipment!$D:$D,$A10) | H10: =SUMIF(Equipment!$D:$D,$A10,Equipment!$G:$G)
A11: =Lists!A11 | B11: =COUNTIFS(Equipment!$D:$D,$A11,Equipment!$F:$F,B$1) | C11: =COUNTIFS(Equipment!$D:$D,$A11,Equipment!$F:$F,C$1) | D11: =COUNTIFS(Equipment!$D:$D,$A11,Equipment!$F:$F,D$1) | E11: =COUNTIFS(Equipment!$D:$D,$A11,Equipment!$F:$F,E$1) | F11: =COUNTIFS(Equipment!$D:$D,$A11,Equipment!$F:$F,F$1) | G11: =COUNTIF(Equipment!$D:$D,$A11) | H11: =SUMIF(Equipment!$D:$D,$A11,Equipment!$G:$G)
A12: =Lists!A12 | B12: =COUNTIFS(Equipment!$D:$D,$A12,Equipment!$F:$F,B$1) | C12: =COUNTIFS(Equipment!$D:$D,$A12,Equipment!$F:$F,C$1) | D12: =COUNTIFS(Equipment!$D:$D,$A12,Equipment!$F:$F,D$1) | E12: =COUNTIFS(Equipment!$D:$D,$A12,Equipment!$F:$F,E$1) | F12: =COUNTIFS(Equipment!$D:$D,$A12,Equipment!$F:$F,F$1) | G12: =COUNTIF(Equipment!$D:$D,$A12) | H12: =SUMIF(Equipment!$D:$D,$A12,Equipment!$G:$G)
A13: =Lists!A13 | B13: =COUNTIFS(Equipment!$D:$D,$A13,Equipment!$F:$F,B$1) | C13: =COUNTIFS(Equipment!$D:$D,$A13,Equipment!$F:$F,C$1) | D13: =COUNTIFS(Equipment!$D:$D,$A13,Equipment!$F:$F,D$1) | E13: =COUNTIFS(Equipment!$D:$D,$A13,Equipment!$F:$F,E$1) | F13: =COUNTIFS(Equipment!$D:$D,$A13,Equipment!$F:$F,F$1) | G13: =COUNTIF(Equipment!$D:$D,$A13) | H13: =SUMIF(Equipment!$D:$D,$A13,Equipment!$G:$G)
A14: TOTAL | B14: =SUM(B2:B13) | C14: =SUM(C2:C13) | D14: =SUM(D2:D13) | E14: =SUM(E2:E13) | F14: =SUM(F2:F13) | G14: =SUM(G2:G13) | H14: =SUM(H2:H13)

Sheet Manifest
A1: Location or container: | B1: Location 01 | J1: Checked by: ____________ Signature: ____________
A2: Printed: | B2: =TODAY() | J2: ="Items on manifest: "&MAX(Equipment!K:K)
A4: Asset ID | B4: Item | C4: Category | D4: Location | E4: Container/Vehicle | F4: Status | G4: Qty | H4: Serial #
A5: =IFERROR(INDEX(Equipment!A:A,MATCH(1,Equipment!$K:$K,0)),"") | B5: =IFERROR(INDEX(Equipment!B:B,MATCH(1,Equipment!$K:$K,0)),"") | C5: =IFERROR(INDEX(Equipment!C:C,MATCH(1,Equipment!$K:$K,0)),"") | D5: =IFERROR(INDEX(Equipment!D:D,MATCH(1,Equipment!$K:$K,0)),"") | E5: =IFERROR(INDEX(Equipment!E:E,MATCH(1,Equipment!$K:$K,0)),"") | F5: =IFERROR(INDEX(Equipment!F:F,MATCH(1,Equipment!$K:$K,0)),"") | G5: =IFERROR(INDEX(Equipment!G:G,MATCH(1,Equipment!$K:$K,0)),"") | H5: =IFERROR(INDEX(Equipment!H:H,MATCH(1,Equipment!$K:$K,0)),"")
A6: =IFERROR(INDEX(Equipment!A:A,MATCH(2,Equipment!$K:$K,0)),"") | B6: =IFERROR(INDEX(Equipment!B:B,MATCH(2,Equipment!$K:$K,0)),"") | C6: =IFERROR(INDEX(Equipment!C:C,MATCH(2,Equipment!$K:$K,0)),"") | D6: =IFERROR(INDEX(Equipment!D:D,MATCH(2,Equipment!$K:$K,0)),"") | E6: =IFERROR(INDEX(Equipment!E:E,MATCH(2,Equipment!$K:$K,0)),"") | F6: =IFERROR(INDEX(Equipment!F:F,MATCH(2,Equipment!$K:$K,0)),"") | G6: =IFERROR(INDEX(Equipment!G:G,MATCH(2,Equipment!$K:$K,0)),"") | H6: =IFERROR(INDEX(Equipment!H:H,MATCH(2,Equipment!$K:$K,0)),"")
A7: =IFERROR(INDEX(Equipment!A:A,MATCH(3,Equipment!$K:$K,0)),"") | B7: =IFERROR(INDEX(Equipment!B:B,MATCH(3,Equipment!$K:$K,0)),"") | C7: =IFERROR(INDEX(Equipment!C:C,MATCH(3,Equipment!$K:$K,0)),"") | D7: =IFERROR(INDEX(Equipment!D:D,MATCH(3,Equipment!$K:$K,0)),"") | E7: =IFERROR(INDEX(Equipment!E:E,MATCH(3,Equipment!$K:$K,0)),"") | F7: =IFERROR(INDEX(Equipment!F:F,MATCH(3,Equipment!$K:$K,0)),"") | G7: =IFERROR(INDEX(Equipment!G:G,MATCH(3,Equipment!$K:$K,0)),"") | H7: =IFERROR(INDEX(Equipment!H:H,MATCH(3,Equipment!$K:$K,0)),"")
A8: =IFERROR(INDEX(Equipment!A:A,MATCH(4,Equipment!$K:$K,0)),"") | B8: =IFERROR(INDEX(Equipment!B:B,MATCH(4,Equipment!$K:$K,0)),"") | C8: =IFERROR(INDEX(Equipment!C:C,MATCH(4,Equipment!$K:$K,0)),"") | D8: =IFERROR(INDEX(Equipment!D:D,MATCH(4,Equipment!$K:$K,0)),"") | E8: =IFERROR(INDEX(Equipment!E:E,MATCH(4,Equipment!$K:$K,0)),"") | F8: =IFERROR(INDEX(Equipment!F:F,MATCH(4,Equipment!$K:$K,0)),"") | G8: =IFERROR(INDEX(Equipment!G:G,MATCH(4,Equipment!$K:$K,0)),"") | H8: =IFERROR(INDEX(Equipment!H:H,MATCH(4,Equipment!$K:$K,0)),"")
A9: =IFERROR(INDEX(Equipment!A:A,MATCH(5,Equipment!$K:$K,0)),"") | B9: =IFERROR(INDEX(Equipment!B:B,MATCH(5,Equipment!$K:$K,0)),"") | C9: =IFERROR(INDEX(Equipment!C:C,MATCH(5,Equipment!$K:$K,0)),"") | D9: =IFERROR(INDEX(Equipment!D:D,MATCH(5,Equipment!$K:$K,0)),"") | E9: =IFERROR(INDEX(Equipment!E:E,MATCH(5,Equipment!$K:$K,0)),"") | F9: =IFERROR(INDEX(Equipment!F:F,MATCH(5,Equipment!$K:$K,0)),"") | G9: =IFERROR(INDEX(Equipment!G:G,MATCH(5,Equipment!$K:$K,0)),"") | H9: =IFERROR(INDEX(Equipment!H:H,MATCH(5,Equipment!$K:$K,0)),"")
A10: =IFERROR(INDEX(Equipment!A:A,MATCH(6,Equipment!$K:$K,0)),"") | B10: =IFERROR(INDEX(Equipment!B:B,MATCH(6,Equipment!$K:$K,0)),"") | C10: =IFERROR(INDEX(Equipment!C:C,MATCH(6,Equipment!$K:$K,0)),"") | D10: =IFERROR(INDEX(Equipment!D:D,MATCH(6,Equipment!$K:$K,0)),"") | E10: =IFERROR(INDEX(Equipment!E:E,MATCH(6,Equipment!$K:$K,0)),"") | F10: =IFERROR(INDEX(Equipment!F:F,MATCH(6,Equipment!$K:$K,0)),"") | G10: =IFERROR(INDEX(Equipment!G:G,MATCH(6,Equipment!$K:$K,0)),"") | H10: =IFERROR(INDEX(Equipment!H:H,MATCH(6,Equipment!$K:$K,0)),"")
A11: =IFERROR(INDEX(Equipment!A:A,MATCH(7,Equipment!$K:$K,0)),"") | B11: =IFERROR(INDEX(Equipment!B:B,MATCH(7,Equipment!$K:$K,0)),"") | C11: =IFERROR(INDEX(Equipment!C:C,MATCH(7,Equipment!$K:$K,0)),"") | D11: =IFERROR(INDEX(Equipment!D:D,MATCH(7,Equipment!$K:$K,0)),"") | E11: =IFERROR(INDEX(Equipment!E:E,MATCH(7,Equipment!$K:$K,0)),"") | F11: =IFERROR(INDEX(Equipment!F:F,MATCH(7,Equipment!$K:$K,0)),"") | G11: =IFERROR(INDEX(Equipment!G:G,MATCH(7,Equipment!$K:$K,0)),"") | H11: =IFERROR(INDEX(Equipment!H:H,MATCH(7,Equipment!$K:$K,0)),"")
A12: =IFERROR(INDEX(Equipment!A:A,MATCH(8,Equipment!$K:$K,0)),"") | B12: =IFERROR(INDEX(Equipment!B:B,MATCH(8,Equipment!$K:$K,0)),"") | C12: =IFERROR(INDEX(Equipment!C:C,MATCH(8,Equipment!$K:$K,0)),"") | D12: =IFERROR(INDEX(Equipment!D:D,MATCH(8,Equipment!$K:$K,0)),"") | E12: =IFERROR(INDEX(Equipment!E:E,MATCH(8,Equipment!$K:$K,0)),"") | F12: =IFERROR(INDEX(Equipment!F:F,MATCH(8,Equipment!$K:$K,0)),"") | G12: =IFERROR(INDEX(Equipment!G:G,MATCH(8,Equipment!$K:$K,0)),"") | H12: =IFERROR(INDEX(Equipment!H:H,MATCH(8,Equipment!$K:$K,0)),"")
A13: =IFERROR(INDEX(Equipment!A:A,MATCH(9,Equipment!$K:$K,0)),"") | B13: =IFERROR(INDEX(Equipment!B:B,MATCH(9,Equipment!$K:$K,0)),"") | C13: =IFERROR(INDEX(Equipment!C:C,MATCH(9,Equipment!$K:$K,0)),"") | D13: =IFERROR(INDEX(Equipment!D:D,MATCH(9,Equipment!$K:$K,0)),"") | E13: =IFERROR(INDEX(Equipment!E:E,MATCH(9,Equipment!$K:$K,0)),"") | F13: =IFERROR(INDEX(Equipment!F:F,MATCH(9,Equipment!$K:$K,0)),"") | G13: =IFERROR(INDEX(Equipment!G:G,MATCH(9,Equipment!$K:$K,0)),"") | H13: =IFERROR(INDEX(Equipment!H:H,MATCH(9,Equipment!$K:$K,0)),"")
A14: =IFERROR(INDEX(Equipment!A:A,MATCH(10,Equipment!$K:$K,0)),"") | B14: =IFERROR(INDEX(Equipment!B:B,MATCH(10,Equipment!$K:$K,0)),"") | C14: =IFERROR(INDEX(Equipment!C:C,MATCH(10,Equipment!$K:$K,0)),"") | D14: =IFERROR(INDEX(Equipment!D:D,MATCH(10,Equipment!$K:$K,0)),"") | E14: =IFERROR(INDEX(Equipment!E:E,MATCH(10,Equipment!$K:$K,0)),"") | F14: =IFERROR(INDEX(Equipment!F:F,MATCH(10,Equipment!$K:$K,0)),"") | G14: =IFERROR(INDEX(Equipment!G:G,MATCH(10,Equipment!$K:$K,0)),"") | H14: =IFERROR(INDEX(Equipment!H:H,MATCH(10,Equipment!$K:$K,0)),"")
A15: =IFERROR(INDEX(Equipment!A:A,MATCH(11,Equipment!$K:$K,0)),"") | B15: =IFERROR(INDEX(Equipment!B:B,MATCH(11,Equipment!$K:$K,0)),"") | C15: =IFERROR(INDEX(Equipment!C:C,MATCH(11,Equipment!$K:$K,0)),"") | D15: =IFERROR(INDEX(Equipment!D:D,MATCH(11,Equipment!$K:$K,0)),"") | E15: =IFERROR(INDEX(Equipment!E:E,MATCH(11,Equipment!$K:$K,0)),"") | F15: =IFERROR(INDEX(Equipment!F:F,MATCH(11,Equipment!$K:$K,0)),"") | G15: =IFERROR(INDEX(Equipment!G:G,MATCH(11,Equipment!$K:$K,0)),"") | H15: =IFERROR(INDEX(Equipment!H:H,MATCH(11,Equipment!$K:$K,0)),"")
A16: =IFERROR(INDEX(Equipment!A:A,MATCH(12,Equipment!$K:$K,0)),"") | B16: =IFERROR(INDEX(Equipment!B:B,MATCH(12,Equipment!$K:$K,0)),"") | C16: =IFERROR(INDEX(Equipment!C:C,MATCH(12,Equipment!$K:$K,0)),"") | D16: =IFERROR(INDEX(Equipment!D:D,MATCH(12,Equipment!$K:$K,0)),"") | E16: =IFERROR(INDEX(Equipment!E:E,MATCH(12,Equipment!$K:$K,0)),"") | F16: =IFERROR(INDEX(Equipment!F:F,MATCH(12,Equipment!$K:$K,0)),"") | G16: =IFERROR(INDEX(Equipment!G:G,MATCH(12,Equipment!$K:$K,0)),"") | H16: =IFERROR(INDEX(Equipment!H:H,MATCH(12,Equipment!$K:$K,0)),"")
A17: =IFERROR(INDEX(Equipment!A:A,MATCH(13,Equipment!$K:$K,0)),"") | B17: =IFERROR(INDEX(Equipment!B:B,MATCH(13,Equipment!$K:$K,0)),"") | C17: =IFERROR(INDEX(Equipment!C:C,MATCH(13,Equipment!$K:$K,0)),"") | D17: =IFERROR(INDEX(Equipment!D:D,MATCH(13,Equipment!$K:$K,0)),"") | E17: =IFERROR(INDEX(Equipment!E:E,MATCH(13,Equipment!$K:$K,0)),"") | F17: =IFERROR(INDEX(Equipment!F:F,MATCH(13,Equipment!$K:$K,0)),"") | G17: =IFERROR(INDEX(Equipment!G:G,MATCH(13,Equipment!$K:$K,0)),"") | H17: =IFERROR(INDEX(Equipment!H:H,MATCH(13,Equipment!$K:$K,0)),"")
A18: =IFERROR(INDEX(Equipment!A:A,MATCH(14,Equipment!$K:$K,0)),"") | B18: =IFERROR(INDEX(Equipment!B:B,MATCH(14,Equipment!$K:$K,0)),"") | C18: =IFERROR(INDEX(Equipment!C:C,MATCH(14,Equipment!$K:$K,0)),"") | D18: =IFERROR(INDEX(Equipment!D:D,MATCH(14,Equipment!$K:$K,0)),"") | E18: =IFERROR(INDEX(Equipment!E:E,MATCH(14,Equipment!$K:$K,0)),"") | F18: =IFERROR(INDEX(Equipment!F:F,MATCH(14,Equipment!$K:$K,0)),"") | G18: =IFERROR(INDEX(Equipment!G:G,MATCH(14,Equipment!$K:$K,0)),"") | H18: =IFERROR(INDEX(Equipment!H:H,MATCH(14,Equipment!$K:$K,0)),"")
A19: =IFERROR(INDEX(Equipment!A:A,MATCH(15,Equipment!$K:$K,0)),"") | B19: =IFERROR(INDEX(Equipment!B:B,MATCH(15,Equipment!$K:$K,0)),"") | C19: =IFERROR(INDEX(Equipment!C:C,MATCH(15,Equipment!$K:$K,0)),"") | D19: =IFERROR(INDEX(Equipment!D:D,MATCH(15,Equipment!$K:$K,0)),"") | E19: =IFERROR(INDEX(Equipment!E:E,MATCH(15,Equipment!$K:$K,0)),"") | F19: =IFERROR(INDEX(Equipment!F:F,MATCH(15,Equipment!$K:$K,0)),"") | G19: =IFERROR(INDEX(Equipment!G:G,MATCH(15,Equipment!$K:$K,0)),"") | H19: =IFERROR(INDEX(Equipment!H:H,MATCH(15,Equipment!$K:$K,0)),"")
A20: =IFERROR(INDEX(Equipment!A:A,MATCH(16,Equipment!$K:$K,0)),"") | B20: =IFERROR(INDEX(Equipment!B:B,MATCH(16,Equipment!$K:$K,0)),"") | C20: =IFERROR(INDEX(Equipment!C:C,MATCH(16,Equipment!$K:$K,0)),"") | D20: =IFERROR(INDEX(Equipment!D:D,MATCH(16,Equipment!$K:$K,0)),"") | E20: =IFERROR(INDEX(Equipment!E:E,MATCH(16,Equipment!$K:$K,0)),"") | F20: =IFERROR(INDEX(Equipment!F:F,MATCH(16,Equipment!$K:$K,0)),"") | G20: =IFERROR(INDEX(Equipment!G:G,MATCH(16,Equipment!$K:$K,0)),"") | H20: =IFERROR(INDEX(Equipment!H:H,MATCH(16,Equipment!$K:$K,0)),"")
A21: =IFERROR(INDEX(Equipment!A:A,MATCH(17,Equipment!$K:$K,0)),"") | B21: =IFERROR(INDEX(Equipment!B:B,MATCH(17,Equipment!$K:$K,0)),"") | C21: =IFERROR(INDEX(Equipment!C:C,MATCH(17,Equipment!$K:$K,0)),"") | D21: =IFERROR(INDEX(Equipment!D:D,MATCH(17,Equipment!$K:$K,0)),"") | E21: =IFERROR(INDEX(Equipment!E:E,MATCH(17,Equipment!$K:$K,0)),"") | F21: =IFERROR(INDEX(Equipment!F:F,MATCH(17,Equipment!$K:$K,0)),"") | G21: =IFERROR(INDEX(Equipment!G:G,MATCH(17,Equipment!$K:$K,0)),"") | H21: =IFERROR(INDEX(Equipment!H:H,MATCH(17,Equipment!$K:$K,0)),"")
A22: =IFERROR(INDEX(Equipment!A:A,MATCH(18,Equipment!$K:$K,0)),"") | B22: =IFERROR(INDEX(Equipment!B:B,MATCH(18,Equipment!$K:$K,0)),"") | C22: =IFERROR(INDEX(Equipment!C:C,MATCH(18,Equipment!$K:$K,0)),"") | D22: =IFERROR(INDEX(Equipment!D:D,MATCH(18,Equipment!$K:$K,0)),"") | E22: =IFERROR(INDEX(Equipment!E:E,MATCH(18,Equipment!$K:$K,0)),"") | F22: =IFERROR(INDEX(Equipment!F:F,MATCH(18,Equipment!$K:$K,0)),"") | G22: =IFERROR(INDEX(Equipment!G:G,MATCH(18,Equipment!$K:$K,0)),"") | H22: =IFERROR(INDEX(Equipment!H:H,MATCH(18,Equipment!$K:$K,0)),"")
A23: =IFERROR(INDEX(Equipment!A:A,MATCH(19,Equipment!$K:$K,0)),"") | B23: =IFERROR(INDEX(Equipment!B:B,MATCH(19,Equipment!$K:$K,0)),"") | C23: =IFERROR(INDEX(Equipment!C:C,MATCH(19,Equipment!$K:$K,0)),"") | D23: =IFERROR(INDEX(Equipment!D:D,MATCH(19,Equipment!$K:$K,0)),"") | E23: =IFERROR(INDEX(Equipment!E:E,MATCH(19,Equipment!$K:$K,0)),"") | F23: =IFERROR(INDEX(Equipment!F:F,MATCH(19,Equipment!$K:$K,0)),"") | G23: =IFERROR(INDEX(Equipment!G:G,MATCH(19,Equipment!$K:$K,0)),"") | H23: =IFERROR(INDEX(Equipment!H:H,MATCH(19,Equipment!$K:$K,0)),"")
A24: =IFERROR(INDEX(Equipment!A:A,MATCH(20,Equipment!$K:$K,0)),"") | B24: =IFERROR(INDEX(Equipment!B:B,MATCH(20,Equipment!$K:$K,0)),"") | C24: =IFERROR(INDEX(Equipment!C:C,MATCH(20,Equipment!$K:$K,0)),"") | D24: =IFERROR(INDEX(Equipment!D:D,MATCH(20,Equipment!$K:$K,0)),"") | E24: =IFERROR(INDEX(Equipment!E:E,MATCH(20,Equipment!$K:$K,0)),"") | F24: =IFERROR(INDEX(Equipment!F:F,MATCH(20,Equipment!$K:$K,0)),"") | G24: =IFERROR(INDEX(Equipment!G:G,MATCH(20,Equipment!$K:$K,0)),"") | H24: =IFERROR(INDEX(Equipment!H:H,MATCH(20,Equipment!$K:$K,0)),"")
A25: =IFERROR(INDEX(Equipment!A:A,MATCH(21,Equipment!$K:$K,0)),"") | B25: =IFERROR(INDEX(Equipment!B:B,MATCH(21,Equipment!$K:$K,0)),"") | C25: =IFERROR(INDEX(Equipment!C:C,MATCH(21,Equipment!$K:$K,0)),"") | D25: =IFERROR(INDEX(Equipment!D:D,MATCH(21,Equipment!$K:$K,0)),"") | E25: =IFERROR(INDEX(Equipment!E:E,MATCH(21,Equipment!$K:$K,0)),"") | F25: =IFERROR(INDEX(Equipment!F:F,MATCH(21,Equipment!$K:$K,0)),"") | G25: =IFERROR(INDEX(Equipment!G:G,MATCH(21,Equipment!$K:$K,0)),"") | H25: =IFERROR(INDEX(Equipment!H:H,MATCH(21,Equipment!$K:$K,0)),"")
A26: =IFERROR(INDEX(Equipment!A:A,MATCH(22,Equipment!$K:$K,0)),"") | B26: =IFERROR(INDEX(Equipment!B:B,MATCH(22,Equipment!$K:$K,0)),"") | C26: =IFERROR(INDEX(Equipment!C:C,MATCH(22,Equipment!$K:$K,0)),"") | D26: =IFERROR(INDEX(Equipment!D:D,MATCH(22,Equipment!$K:$K,0)),"") | E26: =IFERROR(INDEX(Equipment!E:E,MATCH(22,Equipment!$K:$K,0)),"") | F26: =IFERROR(INDEX(Equipment!F:F,MATCH(22,Equipment!$K:$K,0)),"") | G26: =IFERROR(INDEX(Equipment!G:G,MATCH(22,Equipment!$K:$K,0)),"") | H26: =IFERROR(INDEX(Equipment!H:H,MATCH(22,Equipment!$K:$K,0)),"")
A27: =IFERROR(INDEX(Equipment!A:A,MATCH(23,Equipment!$K:$K,0)),"") | B27: =IFERROR(INDEX(Equipment!B:B,MATCH(23,Equipment!$K:$K,0)),"") | C27: =IFERROR(INDEX(Equipment!C:C,MATCH(23,Equipment!$K:$K,0)),"") | D27: =IFERROR(INDEX(Equipment!D:D,MATCH(23,Equipment!$K:$K,0)),"") | E27: =IFERROR(INDEX(Equipment!E:E,MATCH(23,Equipment!$K:$K,0)),"") | F27: =IFERROR(INDEX(Equipment!F:F,MATCH(23,Equipment!$K:$K,0)),"") | G27: =IFERROR(INDEX(Equipment!G:G,MATCH(23,Equipment!$K:$K,0)),"") | H27: =IFERROR(INDEX(Equipment!H:H,MATCH(23,Equipment!$K:$K,0)),"")
A28: =IFERROR(INDEX(Equipment!A:A,MATCH(24,Equipment!$K:$K,0)),"") | B28: =IFERROR(INDEX(Equipment!B:B,MATCH(24,Equipment!$K:$K,0)),"") | C28: =IFERROR(INDEX(Equipment!C:C,MATCH(24,Equipment!$K:$K,0)),"") | D28: =IFERROR(INDEX(Equipment!D:D,MATCH(24,Equipment!$K:$K,0)),"") | E28: =IFERROR(INDEX(Equipment!E:E,MATCH(24,Equipment!$K:$K,0)),"") | F28: =IFERROR(INDEX(Equipment!F:F,MATCH(24,Equipment!$K:$K,0)),"") | G28: =IFERROR(INDEX(Equipment!G:G,MATCH(24,Equipment!$K:$K,0)),"") | H28: =IFERROR(INDEX(Equipment!H:H,MATCH(24,Equipment!$K:$K,0)),"")
A29: =IFERROR(INDEX(Equipment!A:A,MATCH(25,Equipment!$K:$K,0)),"") | B29: =IFERROR(INDEX(Equipment!B:B,MATCH(25,Equipment!$K:$K,0)),"") | C29: =IFERROR(INDEX(Equipment!C:C,MATCH(25,Equipment!$K:$K,0)),"") | D29: =IFERROR(INDEX(Equipment!D:D,MATCH(25,Equipment!$K:$K,0)),"") | E29: =IFERROR(INDEX(Equipment!E:E,MATCH(25,Equipment!$K:$K,0)),"") | F29: =IFERROR(INDEX(Equipment!F:F,MATCH(25,Equipment!$K:$K,0)),"") | G29: =IFERROR(INDEX(Equipment!G:G,MATCH(25,Equipment!$K:$K,0)),"") | H29: =IFERROR(INDEX(Equipment!H:H,MATCH(25,Equipment!$K:$K,0)),"")
A30: =IFERROR(INDEX(Equipment!A:A,MATCH(26,Equipment!$K:$K,0)),"") | B30: =IFERROR(INDEX(Equipment!B:B,MATCH(26,Equipment!$K:$K,0)),"") | C30: =IFERROR(INDEX(Equipment!C:C,MATCH(26,Equipment!$K:$K,0)),"") | D30: =IFERROR(INDEX(Equipment!D:D,MATCH(26,Equipment!$K:$K,0)),"") | E30: =IFERROR(INDEX(Equipment!E:E,MATCH(26,Equipment!$K:$K,0)),"") | F30: =IFERROR(INDEX(Equipment!F:F,MATCH(26,Equipment!$K:$K,0)),"") | G30: =IFERROR(INDEX(Equipment!G:G,MATCH(26,Equipment!$K:$K,0)),"") | H30: =IFERROR(INDEX(Equipment!H:H,MATCH(26,Equipment!$K:$K,0)),"")
A31: =IFERROR(INDEX(Equipment!A:A,MATCH(27,Equipment!$K:$K,0)),"") | B31: =IFERROR(INDEX(Equipment!B:B,MATCH(27,Equipment!$K:$K,0)),"") | C31: =IFERROR(INDEX(Equipment!C:C,MATCH(27,Equipment!$K:$K,0)),"") | D31: =IFERROR(INDEX(Equipment!D:D,MATCH(27,Equipment!$K:$K,0)),"") | E31: =IFERROR(INDEX(Equipment!E:E,MATCH(27,Equipment!$K:$K,0)),"") | F31: =IFERROR(INDEX(Equipment!F:F,MATCH(27,Equipment!$K:$K,0)),"") | G31: =IFERROR(INDEX(Equipment!G:G,MATCH(27,Equipment!$K:$K,0)),"") | H31: =IFERROR(INDEX(Equipment!H:H,MATCH(27,Equipment!$K:$K,0)),"")
A32: =IFERROR(INDEX(Equipment!A:A,MATCH(28,Equipment!$K:$K,0)),"") | B32: =IFERROR(INDEX(Equipment!B:B,MATCH(28,Equipment!$K:$K,0)),"") | C32: =IFERROR(INDEX(Equipment!C:C,MATCH(28,Equipment!$K:$K,0)),"") | D32: =IFERROR(INDEX(Equipment!D:D,MATCH(28,Equipment!$K:$K,0)),"") | E32: =IFERROR(INDEX(Equipment!E:E,MATCH(28,Equipment!$K:$K,0)),"") | F32: =IFERROR(INDEX(Equipment!F:F,MATCH(28,Equipment!$K:$K,0)),"") | G32: =IFERROR(INDEX(Equipment!G:G,MATCH(28,Equipment!$K:$K,0)),"") | H32: =IFERROR(INDEX(Equipment!H:H,MATCH(28,Equipment!$K:$K,0)),"")
A33: =IFERROR(INDEX(Equipment!A:A,MATCH(29,Equipment!$K:$K,0)),"") | B33: =IFERROR(INDEX(Equipment!B:B,MATCH(29,Equipment!$K:$K,0)),"") | C33: =IFERROR(INDEX(Equipment!C:C,MATCH(29,Equipment!$K:$K,0)),"") | D33: =IFERROR(INDEX(Equipment!D:D,MATCH(29,Equipment!$K:$K,0)),"") | E33: =IFERROR(INDEX(Equipment!E:E,MATCH(29,Equipment!$K:$K,0)),"") | F33: =IFERROR(INDEX(Equipment!F:F,MATCH(29,Equipment!$K:$K,0)),"") | G33: =IFERROR(INDEX(Equipment!G:G,MATCH(29,Equipment!$K:$K,0)),"") | H33: =IFERROR(INDEX(Equipment!H:H,MATCH(29,Equipment!$K:$K,0)),"")
A34: =IFERROR(INDEX(Equipment!A:A,MATCH(30,Equipment!$K:$K,0)),"") | B34: =IFERROR(INDEX(Equipment!B:B,MATCH(30,Equipment!$K:$K,0)),"") | C34: =IFERROR(INDEX(Equipment!C:C,MATCH(30,Equipment!$K:$K,0)),"") | D34: =IFERROR(INDEX(Equipment!D:D,MATCH(30,Equipment!$K:$K,0)),"") | E34: =IFERROR(INDEX(Equipment!E:E,MATCH(30,Equipment!$K:$K,0)),"") | F34: =IFERROR(INDEX(Equipment!F:F,MATCH(30,Equipment!$K:$K,0)),"") | G34: =IFERROR(INDEX(Equipment!G:G,MATCH(30,Equipment!$K:$K,0)),"") | H34: =IFERROR(INDEX(Equipment!H:H,MATCH(30,Equipment!$K:$K,0)),"")
A35: =IFERROR(INDEX(Equipment!A:A,MATCH(31,Equipment!$K:$K,0)),"") | B35: =IFERROR(INDEX(Equipment!B:B,MATCH(31,Equipment!$K:$K,0)),"") | C35: =IFERROR(INDEX(Equipment!C:C,MATCH(31,Equipment!$K:$K,0)),"") | D35: =IFERROR(INDEX(Equipment!D:D,MATCH(31,Equipment!$K:$K,0)),"") | E35: =IFERROR(INDEX(Equipment!E:E,MATCH(31,Equipment!$K:$K,0)),"") | F35: =IFERROR(INDEX(Equipment!F:F,MATCH(31,Equipment!$K:$K,0)),"") | G35: =IFERROR(INDEX(Equipment!G:G,MATCH(31,Equipment!$K:$K,0)),"") | H35: =IFERROR(INDEX(Equipment!H:H,MATCH(31,Equipment!$K:$K,0)),"")
A36: =IFERROR(INDEX(Equipment!A:A,MATCH(32,Equipment!$K:$K,0)),"") | B36: =IFERROR(INDEX(Equipment!B:B,MATCH(32,Equipment!$K:$K,0)),"") | C36: =IFERROR(INDEX(Equipment!C:C,MATCH(32,Equipment!$K:$K,0)),"") | D36: =IFERROR(INDEX(Equipment!D:D,MATCH(32,Equipment!$K:$K,0)),"") | E36: =IFERROR(INDEX(Equipment!E:E,MATCH(32,Equipment!$K:$K,0)),"") | F36: =IFERROR(INDEX(Equipment!F:F,MATCH(32,Equipment!$K:$K,0)),"") | G36: =IFERROR(INDEX(Equipment!G:G,MATCH(32,Equipment!$K:$K,0)),"") | H36: =IFERROR(INDEX(Equipment!H:H,MATCH(32,Equipment!$K:$K,0)),"")
A37: =IFERROR(INDEX(Equipment!A:A,MATCH(33,Equipment!$K:$K,0)),"") | B37: =IFERROR(INDEX(Equipment!B:B,MATCH(33,Equipment!$K:$K,0)),"") | C37: =IFERROR(INDEX(Equipment!C:C,MATCH(33,Equipment!$K:$K,0)),"") | D37: =IFERROR(INDEX(Equipment!D:D,MATCH(33,Equipment!$K:$K,0)),"") | E37: =IFERROR(INDEX(Equipment!E:E,MATCH(33,Equipment!$K:$K,0)),"") | F37: =IFERROR(INDEX(Equipment!F:F,MATCH(33,Equipment!$K:$K,0)),"") | G37: =IFERROR(INDEX(Equipment!G:G,MATCH(33,Equipment!$K:$K,0)),"") | H37: =IFERROR(INDEX(Equipment!H:H,MATCH(33,Equipment!$K:$K,0)),"")
A38: =IFERROR(INDEX(Equipment!A:A,MATCH(34,Equipment!$K:$K,0)),"") | B38: =IFERROR(INDEX(Equipment!B:B,MATCH(34,Equipment!$K:$K,0)),"") | C38: =IFERROR(INDEX(Equipment!C:C,MATCH(34,Equipment!$K:$K,0)),"") | D38: =IFERROR(INDEX(Equipment!D:D,MATCH(34,Equipment!$K:$K,0)),"") | E38: =IFERROR(INDEX(Equipment!E:E,MATCH(34,Equipment!$K:$K,0)),"") | F38: =IFERROR(INDEX(Equipment!F:F,MATCH(34,Equipment!$K:$K,0)),"") | G38: =IFERROR(INDEX(Equipment!G:G,MATCH(34,Equipment!$K:$K,0)),"") | H38: =IFERROR(INDEX(Equipment!H:H,MATCH(34,Equipment!$K:$K,0)),"")
A39: =IFERROR(INDEX(Equipment!A:A,MATCH(35,Equipment!$K:$K,0)),"") | B39: =IFERROR(INDEX(Equipment!B:B,MATCH(35,Equipment!$K:$K,0)),"") | C39: =IFERROR(INDEX(Equipment!C:C,MATCH(35,Equipment!$K:$K,0)),"") | D39: =IFERROR(INDEX(Equipment!D:D,MATCH(35,Equipment!$K:$K,0)),"") | E39: =IFERROR(INDEX(Equipment!E:E,MATCH(35,Equipment!$K:$K,0)),"") | F39: =IFERROR(INDEX(Equipment!F:F,MATCH(35,Equipment!$K:$K,0)),"") | G39: =IFERROR(INDEX(Equipment!G:G,MATCH(35,Equipment!$K:$K,0)),"") | H39: =IFERROR(INDEX(Equipment!H:H,MATCH(35,Equipment!$K:$K,0)),"")
A40: =IFERROR(INDEX(Equipment!A:A,MATCH(36,Equipment!$K:$K,0)),"") | B40: =IFERROR(INDEX(Equipment!B:B,MATCH(36,Equipment!$K:$K,0)),"") | C40: =IFERROR(INDEX(Equipment!C:C,MATCH(36,Equipment!$K:$K,0)),"") | D40: =IFERROR(INDEX(Equipment!D:D,MATCH(36,Equipment!$K:$K,0)),"") | E40: =IFERROR(INDEX(Equipment!E:E,MATCH(36,Equipment!$K:$K,0)),"") | F40: =IFERROR(INDEX(Equipment!F:F,MATCH(36,Equipment!$K:$K,0)),"") | G40: =IFERROR(INDEX(Equipment!G:G,MATCH(36,Equipment!$K:$K,0)),"") | H40: =IFERROR(INDEX(Equipment!H:H,MATCH(36,Equipment!$K:$K,0)),"")
A41: =IFERROR(INDEX(Equipment!A:A,MATCH(37,Equipment!$K:$K,0)),"") | B41: =IFERROR(INDEX(Equipment!B:B,MATCH(37,Equipment!$K:$K,0)),"") | C41: =IFERROR(INDEX(Equipment!C:C,MATCH(37,Equipment!$K:$K,0)),"") | D41: =IFERROR(INDEX(Equipment!D:D,MATCH(37,Equipment!$K:$K,0)),"") | E41: =IFERROR(INDEX(Equipment!E:E,MATCH(37,Equipment!$K:$K,0)),"") | F41: =IFERROR(INDEX(Equipment!F:F,MATCH(37,Equipment!$K:$K,0)),"") | G41: =IFERROR(INDEX(Equipment!G:G,MATCH(37,Equipment!$K:$K,0)),"") | H41: =IFERROR(INDEX(Equipment!H:H,MATCH(37,Equipment!$K:$K,0)),"")
A42: =IFERROR(INDEX(Equipment!A:A,MATCH(38,Equipment!$K:$K,0)),"") | B42: =IFERROR(INDEX(Equipment!B:B,MATCH(38,Equipment!$K:$K,0)),"") | C42: =IFERROR(INDEX(Equipment!C:C,MATCH(38,Equipment!$K:$K,0)),"") | D42: =IFERROR(INDEX(Equipment!D:D,MATCH(38,Equipment!$K:$K,0)),"") | E42: =IFERROR(INDEX(Equipment!E:E,MATCH(38,Equipment!$K:$K,0)),"") | F42: =IFERROR(INDEX(Equipment!F:F,MATCH(38,Equipment!$K:$K,0)),"") | G42: =IFERROR(INDEX(Equipment!G:G,MATCH(38,Equipment!$K:$K,0)),"") | H42: =IFERROR(INDEX(Equipment!H:H,MATCH(38,Equipment!$K:$K,0)),"")
A43: =IFERROR(INDEX(Equipment!A:A,MATCH(39,Equipment!$K:$K,0)),"") | B43: =IFERROR(INDEX(Equipment!B:B,MATCH(39,Equipment!$K:$K,0)),"") | C43: =IFERROR(INDEX(Equipment!C:C,MATCH(39,Equipment!$K:$K,0)),"") | D43: =IFERROR(INDEX(Equipment!D:D,MATCH(39,Equipment!$K:$K,0)),"") | E43: =IFERROR(INDEX(Equipment!E:E,MATCH(39,Equipment!$K:$K,0)),"") | F43: =IFERROR(INDEX(Equipment!F:F,MATCH(39,Equipment!$K:$K,0)),"") | G43: =IFERROR(INDEX(Equipment!G:G,MATCH(39,Equipment!$K:$K,0)),"") | H43: =IFERROR(INDEX(Equipment!H:H,MATCH(39,Equipment!$K:$K,0)),"")
A44: =IFERROR(INDEX(Equipment!A:A,MATCH(40,Equipment!$K:$K,0)),"") | B44: =IFERROR(INDEX(Equipment!B:B,MATCH(40,Equipment!$K:$K,0)),"") | C44: =IFERROR(INDEX(Equipment!C:C,MATCH(40,Equipment!$K:$K,0)),"") | D44: =IFERROR(INDEX(Equipment!D:D,MATCH(40,Equipment!$K:$K,0)),"") | E44: =IFERROR(INDEX(Equipment!E:E,MATCH(40,Equipment!$K:$K,0)),"") | F44: =IFERROR(INDEX(Equipment!F:F,MATCH(40,Equipment!$K:$K,0)),"") | G44: =IFERROR(INDEX(Equipment!G:G,MATCH(40,Equipment!$K:$K,0)),"") | H44: =IFERROR(INDEX(Equipment!H:H,MATCH(40,Equipment!$K:$K,0)),"")
A45: =IFERROR(INDEX(Equipment!A:A,MATCH(41,Equipment!$K:$K,0)),"") | B45: =IFERROR(INDEX(Equipment!B:B,MATCH(41,Equipment!$K:$K,0)),"") | C45: =IFERROR(INDEX(Equipment!C:C,MATCH(41,Equipment!$K:$K,0)),"") | D45: =IFERROR(INDEX(Equipment!D:D,MATCH(41,Equipment!$K:$K,0)),"") | E45: =IFERROR(INDEX(Equipment!E:E,MATCH(41,Equipment!$K:$K,0)),"") | F45: =IFERROR(INDEX(Equipment!F:F,MATCH(41,Equipment!$K:$K,0)),"") | G45: =IFERROR(INDEX(Equipment!G:G,MATCH(41,Equipment!$K:$K,0)),"") | H45: =IFERROR(INDEX(Equipment!H:H,MATCH(41,Equipment!$K:$K,0)),"")
A46: =IFERROR(INDEX(Equipment!A:A,MATCH(42,Equipment!$K:$K,0)),"") | B46: =IFERROR(INDEX(Equipment!B:B,MATCH(42,Equipment!$K:$K,0)),"") | C46: =IFERROR(INDEX(Equipment!C:C,MATCH(42,Equipment!$K:$K,0)),"") | D46: =IFERROR(INDEX(Equipment!D:D,MATCH(42,Equipment!$K:$K,0)),"") | E46: =IFERROR(INDEX(Equipment!E:E,MATCH(42,Equipment!$K:$K,0)),"") | F46: =IFERROR(INDEX(Equipment!F:F,MATCH(42,Equipment!$K:$K,0)),"") | G46: =IFERROR(INDEX(Equipment!G:G,MATCH(42,Equipment!$K:$K,0)),"") | H46: =IFERROR(INDEX(Equipment!H:H,MATCH(42,Equipment!$K:$K,0)),"")
A47: =IFERROR(INDEX(Equipment!A:A,MATCH(43,Equipment!$K:$K,0)),"") | B47: =IFERROR(INDEX(Equipment!B:B,MATCH(43,Equipment!$K:$K,0)),"") | C47: =IFERROR(INDEX(Equipment!C:C,MATCH(43,Equipment!$K:$K,0)),"") | D47: =IFERROR(INDEX(Equipment!D:D,MATCH(43,Equipment!$K:$K,0)),"") | E47: =IFERROR(INDEX(Equipment!E:E,MATCH(43,Equipment!$K:$K,0)),"") | F47: =IFERROR(INDEX(Equipment!F:F,MATCH(43,Equipment!$K:$K,0)),"") | G47: =IFERROR(INDEX(Equipment!G:G,MATCH(43,Equipment!$K:$K,0)),"") | H47: =IFERROR(INDEX(Equipment!H:H,MATCH(43,Equipment!$K:$K,0)),"")
A48: =IFERROR(INDEX(Equipment!A:A,MATCH(44,Equipment!$K:$K,0)),"") | B48: =IFERROR(INDEX(Equipment!B:B,MATCH(44,Equipment!$K:$K,0)),"") | C48: =IFERROR(INDEX(Equipment!C:C,MATCH(44,Equipment!$K:$K,0)),"") | D48: =IFERROR(INDEX(Equipment!D:D,MATCH(44,Equipment!$K:$K,0)),"") | E48: =IFERROR(INDEX(Equipment!E:E,MATCH(44,Equipment!$K:$K,0)),"") | F48: =IFERROR(INDEX(Equipment!F:F,MATCH(44,Equipment!$K:$K,0)),"") | G48: =IFERROR(INDEX(Equipment!G:G,MATCH(44,Equipment!$K:$K,0)),"") | H48: =IFERROR(INDEX(Equipment!H:H,MATCH(44,Equipment!$K:$K,0)),"")
A49: =IFERROR(INDEX(Equipment!A:A,MATCH(45,Equipment!$K:$K,0)),"") | B49: =IFERROR(INDEX(Equipment!B:B,MATCH(45,Equipment!$K:$K,0)),"") | C49: =IFERROR(INDEX(Equipment!C:C,MATCH(45,Equipment!$K:$K,0)),"") | D49: =IFERROR(INDEX(Equipment!D:D,MATCH(45,Equipment!$K:$K,0)),"") | E49: =IFERROR(INDEX(Equipment!E:E,MATCH(45,Equipment!$K:$K,0)),"") | F49: =IFERROR(INDEX(Equipment!F:F,MATCH(45,Equipment!$K:$K,0)),"") | G49: =IFERROR(INDEX(Equipment!G:G,MATCH(45,Equipment!$K:$K,0)),"") | H49: =IFERROR(INDEX(Equipment!H:H,MATCH(45,Equipment!$K:$K,0)),"")
A50: =IFERROR(INDEX(Equipment!A:A,MATCH(46,Equipment!$K:$K,0)),"") | B50: =IFERROR(INDEX(Equipment!B:B,MATCH(46,Equipment!$K:$K,0)),"") | C50: =IFERROR(INDEX(Equipment!C:C,MATCH(46,Equipment!$K:$K,0)),"") | D50: =IFERROR(INDEX(Equipment!D:D,MATCH(46,Equipment!$K:$K,0)),"") | E50: =IFERROR(INDEX(Equipment!E:E,MATCH(46,Equipment!$K:$K,0)),"") | F50: =IFERROR(INDEX(Equipment!F:F,MATCH(46,Equipment!$K:$K,0)),"") | G50: =IFERROR(INDEX(Equipment!G:G,MATCH(46,Equipment!$K:$K,0)),"") | H50: =IFERROR(INDEX(Equipment!H:H,MATCH(46,Equipment!$K:$K,0)),"")
A51: =IFERROR(INDEX(Equipment!A:A,MATCH(47,Equipment!$K:$K,0)),"") | B51: =IFERROR(INDEX(Equipment!B:B,MATCH(47,Equipment!$K:$K,0)),"") | C51: =IFERROR(INDEX(Equipment!C:C,MATCH(47,Equipment!$K:$K,0)),"") | D51: =IFERROR(INDEX(Equipment!D:D,MATCH(47,Equipment!$K:$K,0)),"") | E51: =IFERROR(INDEX(Equipment!E:E,MATCH(47,Equipment!$K:$K,0)),"") | F51: =IFERROR(INDEX(Equipment!F:F,MATCH(47,Equipment!$K:$K,0)),"") | G51: =IFERROR(INDEX(Equipment!G:G,MATCH(47,Equipment!$K:$K,0)),"") | H51: =IFERROR(INDEX(Equipment!H:H,MATCH(47,Equipment!$K:$K,0)),"")
A52: =IFERROR(INDEX(Equipment!A:A,MATCH(48,Equipment!$K:$K,0)),"") | B52: =IFERROR(INDEX(Equipment!B:B,MATCH(48,Equipment!$K:$K,0)),"") | C52: =IFERROR(INDEX(Equipment!C:C,MATCH(48,Equipment!$K:$K,0)),"") | D52: =IFERROR(INDEX(Equipment!D:D,MATCH(48,Equipment!$K:$K,0)),"") | E52: =IFERROR(INDEX(Equipment!E:E,MATCH(48,Equipment!$K:$K,0)),"") | F52: =IFERROR(INDEX(Equipment!F:F,MATCH(48,Equipment!$K:$K,0)),"") | G52: =IFERROR(INDEX(Equipment!G:G,MATCH(48,Equipment!$K:$K,0)),"") | H52: =IFERROR(INDEX(Equipment!H:H,MATCH(48,Equipment!$K:$K,0)),"")
A53: =IFERROR(INDEX(Equipment!A:A,MATCH(49,Equipment!$K:$K,0)),"") | B53: =IFERROR(INDEX(Equipment!B:B,MATCH(49,Equipment!$K:$K,0)),"") | C53: =IFERROR(INDEX(Equipment!C:C,MATCH(49,Equipment!$K:$K,0)),"") | D53: =IFERROR(INDEX(Equipment!D:D,MATCH(49,Equipment!$K:$K,0)),"") | E53: =IFERROR(INDEX(Equipment!E:E,MATCH(49,Equipment!$K:$K,0)),"") | F53: =IFERROR(INDEX(Equipment!F:F,MATCH(49,Equipment!$K:$K,0)),"") | G53: =IFERROR(INDEX(Equipment!G:G,MATCH(49,Equipment!$K:$K,0)),"") | H53: =IFERROR(INDEX(Equipment!H:H,MATCH(49,Equipment!$K:$K,0)),"")
A54: =IFERROR(INDEX(Equipment!A:A,MATCH(50,Equipment!$K:$K,0)),"") | B54: =IFERROR(INDEX(Equipment!B:B,MATCH(50,Equipment!$K:$K,0)),"") | C54: =IFERROR(INDEX(Equipment!C:C,MATCH(50,Equipment!$K:$K,0)),"") | D54: =IFERROR(INDEX(Equipment!D:D,MATCH(50,Equipment!$K:$K,0)),"") | E54: =IFERROR(INDEX(Equipment!E:E,MATCH(50,Equipment!$K:$K,0)),"") | F54: =IFERROR(INDEX(Equipment!F:F,MATCH(50,Equipment!$K:$K,0)),"") | G54: =IFERROR(INDEX(Equipment!G:G,MATCH(50,Equipment!$K:$K,0)),"") | H54: =IFERROR(INDEX(Equipment!H:H,MATCH(50,Equipment!$K:$K,0)),"")
A55: =IFERROR(INDEX(Equipment!A:A,MATCH(51,Equipment!$K:$K,0)),"") | B55: =IFERROR(INDEX(Equipment!B:B,MATCH(51,Equipment!$K:$K,0)),"") | C55: =IFERROR(INDEX(Equipment!C:C,MATCH(51,Equipment!$K:$K,0)),"") | D55: =IFERROR(INDEX(Equipment!D:D,MATCH(51,Equipment!$K:$K,0)),"") | E55: =IFERROR(INDEX(Equipment!E:E,MATCH(51,Equipment!$K:$K,0)),"") | F55: =IFERROR(INDEX(Equipment!F:F,MATCH(51,Equipment!$K:$K,0)),"") | G55: =IFERROR(INDEX(Equipment!G:G,MATCH(51,Equipment!$K:$K,0)),"") | H55: =IFERROR(INDEX(Equipment!H:H,MATCH(51,Equipment!$K:$K,0)),"")
A56: =IFERROR(INDEX(Equipment!A:A,MATCH(52,Equipment!$K:$K,0)),"") | B56: =IFERROR(INDEX(Equipment!B:B,MATCH(52,Equipment!$K:$K,0)),"") | C56: =IFERROR(INDEX(Equipment!C:C,MATCH(52,Equipment!$K:$K,0)),"") | D56: =IFERROR(INDEX(Equipment!D:D,MATCH(52,Equipment!$K:$K,0)),"") | E56: =IFERROR(INDEX(Equipment!E:E,MATCH(52,Equipment!$K:$K,0)),"") | F56: =IFERROR(INDEX(Equipment!F:F,MATCH(52,Equipment!$K:$K,0)),"") | G56: =IFERROR(INDEX(Equipment!G:G,MATCH(52,Equipment!$K:$K,0)),"") | H56: =IFERROR(INDEX(Equipment!H:H,MATCH(52,Equipment!$K:$K,0)),"")
A57: =IFERROR(INDEX(Equipment!A:A,MATCH(53,Equipment!$K:$K,0)),"") | B57: =IFERROR(INDEX(Equipment!B:B,MATCH(53,Equipment!$K:$K,0)),"") | C57: =IFERROR(INDEX(Equipment!C:C,MATCH(53,Equipment!$K:$K,0)),"") | D57: =IFERROR(INDEX(Equipment!D:D,MATCH(53,Equipment!$K:$K,0)),"") | E57: =IFERROR(INDEX(Equipment!E:E,MATCH(53,Equipment!$K:$K,0)),"") | F57: =IFERROR(INDEX(Equipment!F:F,MATCH(53,Equipment!$K:$K,0)),"") | G57: =IFERROR(INDEX(Equipment!G:G,MATCH(53,Equipment!$K:$K,0)),"") | H57: =IFERROR(INDEX(Equipment!H:H,MATCH(53,Equipment!$K:$K,0)),"")
A58: =IFERROR(INDEX(Equipment!A:A,MATCH(54,Equipment!$K:$K,0)),"") | B58: =IFERROR(INDEX(Equipment!B:B,MATCH(54,Equipment!$K:$K,0)),"") | C58: =IFERROR(INDEX(Equipment!C:C,MATCH(54,Equipment!$K:$K,0)),"") | D58: =IFERROR(INDEX(Equipment!D:D,MATCH(54,Equipment!$K:$K,0)),"") | E58: =IFERROR(INDEX(Equipment!E:E,MATCH(54,Equipment!$K:$K,0)),"") | F58: =IFERROR(INDEX(Equipment!F:F,MATCH(54,Equipment!$K:$K,0)),"") | G58: =IFERROR(INDEX(Equipment!G:G,MATCH(54,Equipment!$K:$K,0)),"") | H58: =IFERROR(INDEX(Equipment!H:H,MATCH(54,Equipment!$K:$K,0)),"")
A59: =IFERROR(INDEX(Equipment!A:A,MATCH(55,Equipment!$K:$K,0)),"") | B59: =IFERROR(INDEX(Equipment!B:B,MATCH(55,Equipment!$K:$K,0)),"") | C59: =IFERROR(INDEX(Equipment!C:C,MATCH(55,Equipment!$K:$K,0)),"") | D59: =IFERROR(INDEX(Equipment!D:D,MATCH(55,Equipment!$K:$K,0)),"") | E59: =IFERROR(INDEX(Equipment!E:E,MATCH(55,Equipment!$K:$K,0)),"") | F59: =IFERROR(INDEX(Equipment!F:F,MATCH(55,Equipment!$K:$K,0)),"") | G59: =IFERROR(INDEX(Equipment!G:G,MATCH(55,Equipment!$K:$K,0)),"") | H59: =IFERROR(INDEX(Equipment!H:H,MATCH(55,Equipment!$K:$K,0)),"")
A60: =IFERROR(INDEX(Equipment!A:A,MATCH(56,Equipment!$K:$K,0)),"") | B60: =IFERROR(INDEX(Equipment!B:B,MATCH(56,Equipment!$K:$K,0)),"") | C60: =IFERROR(INDEX(Equipment!C:C,MATCH(56,Equipment!$K:$K,0)),"") | D60: =IFERROR(INDEX(Equipment!D:D,MATCH(56,Equipment!$K:$K,0)),"") | E60: =IFERROR(INDEX(Equipment!E:E,MATCH(56,Equipment!$K:$K,0)),"") | F60: =IFERROR(INDEX(Equipment!F:F,MATCH(56,Equipment!$K:$K,0)),"") | G60: =IFERROR(INDEX(Equipment!G:G,MATCH(56,Equipment!$K:$K,0)),"") | H60: =IFERROR(INDEX(Equipment!H:H,MATCH(56,Equipment!$K:$K,0)),"")
A61: =IFERROR(INDEX(Equipment!A:A,MATCH(57,Equipment!$K:$K,0)),"") | B61: =IFERROR(INDEX(Equipment!B:B,MATCH(57,Equipment!$K:$K,0)),"") | C61: =IFERROR(INDEX(Equipment!C:C,MATCH(57,Equipment!$K:$K,0)),"") | D61: =IFERROR(INDEX(Equipment!D:D,MATCH(57,Equipment!$K:$K,0)),"") | E61: =IFERROR(INDEX(Equipment!E:E,MATCH(57,Equipment!$K:$K,0)),"") | F61: =IFERROR(INDEX(Equipment!F:F,MATCH(57,Equipment!$K:$K,0)),"") | G61: =IFERROR(INDEX(Equipment!G:G,MATCH(57,Equipment!$K:$K,0)),"") | H61: =IFERROR(INDEX(Equipment!H:H,MATCH(57,Equipment!$K:$K,0)),"")
A62: =IFERROR(INDEX(Equipment!A:A,MATCH(58,Equipment!$K:$K,0)),"") | B62: =IFERROR(INDEX(Equipment!B:B,MATCH(58,Equipment!$K:$K,0)),"") | C62: =IFERROR(INDEX(Equipment!C:C,MATCH(58,Equipment!$K:$K,0)),"") | D62: =IFERROR(INDEX(Equipment!D:D,MATCH(58,Equipment!$K:$K,0)),"") | E62: =IFERROR(INDEX(Equipment!E:E,MATCH(58,Equipment!$K:$K,0)),"") | F62: =IFERROR(INDEX(Equipment!F:F,MATCH(58,Equipment!$K:$K,0)),"") | G62: =IFERROR(INDEX(Equipment!G:G,MATCH(58,Equipment!$K:$K,0)),"") | H62: =IFERROR(INDEX(Equipment!H:H,MATCH(58,Equipment!$K:$K,0)),"")
A63: =IFERROR(INDEX(Equipment!A:A,MATCH(59,Equipment!$K:$K,0)),"") | B63: =IFERROR(INDEX(Equipment!B:B,MATCH(59,Equipment!$K:$K,0)),"") | C63: =IFERROR(INDEX(Equipment!C:C,MATCH(59,Equipment!$K:$K,0)),"") | D63: =IFERROR(INDEX(Equipment!D:D,MATCH(59,Equipment!$K:$K,0)),"") | E63: =IFERROR(INDEX(Equipment!E:E,MATCH(59,Equipment!$K:$K,0)),"") | F63: =IFERROR(INDEX(Equipment!F:F,MATCH(59,Equipment!$K:$K,0)),"") | G63: =IFERROR(INDEX(Equipment!G:G,MATCH(59,Equipment!$K:$K,0)),"") | H63: =IFERROR(INDEX(Equipment!H:H,MATCH(59,Equipment!$K:$K,0)),"")
A64: =IFERROR(INDEX(Equipment!A:A,MATCH(60,Equipment!$K:$K,0)),"") | B64: =IFERROR(INDEX(Equipment!B:B,MATCH(60,Equipment!$K:$K,0)),"") | C64: =IFERROR(INDEX(Equipment!C:C,MATCH(60,Equipment!$K:$K,0)),"") | D64: =IFERROR(INDEX(Equipment!D:D,MATCH(60,Equipment!$K:$K,0)),"") | E64: =IFERROR(INDEX(Equipment!E:E,MATCH(60,Equipment!$K:$K,0)),"") | F64: =IFERROR(INDEX(Equipment!F:F,MATCH(60,Equipment!$K:$K,0)),"") | G64: =IFERROR(INDEX(Equipment!G:G,MATCH(60,Equipment!$K:$K,0)),"") | H64: =IFERROR(INDEX(Equipment!H:H,MATCH(60,Equipment!$K:$K,0)),"")
A65: =IFERROR(INDEX(Equipment!A:A,MATCH(61,Equipment!$K:$K,0)),"") | B65: =IFERROR(INDEX(Equipment!B:B,MATCH(61,Equipment!$K:$K,0)),"") | C65: =IFERROR(INDEX(Equipment!C:C,MATCH(61,Equipment!$K:$K,0)),"") | D65: =IFERROR(INDEX(Equipment!D:D,MATCH(61,Equipment!$K:$K,0)),"") | E65: =IFERROR(INDEX(Equipment!E:E,MATCH(61,Equipment!$K:$K,0)),"") | F65: =IFERROR(INDEX(Equipment!F:F,MATCH(61,Equipment!$K:$K,0)),"") | G65: =IFERROR(INDEX(Equipment!G:G,MATCH(61,Equipment!$K:$K,0)),"") | H65: =IFERROR(INDEX(Equipment!H:H,MATCH(61,Equipment!$K:$K,0)),"")
A66: =IFERROR(INDEX(Equipment!A:A,MATCH(62,Equipment!$K:$K,0)),"") | B66: =IFERROR(INDEX(Equipment!B:B,MATCH(62,Equipment!$K:$K,0)),"") | C66: =IFERROR(INDEX(Equipment!C:C,MATCH(62,Equipment!$K:$K,0)),"") | D66: =IFERROR(INDEX(Equipment!D:D,MATCH(62,Equipment!$K:$K,0)),"") | E66: =IFERROR(INDEX(Equipment!E:E,MATCH(62,Equipment!$K:$K,0)),"") | F66: =IFERROR(INDEX(Equipment!F:F,MATCH(62,Equipment!$K:$K,0)),"") | G66: =IFERROR(INDEX(Equipment!G:G,MATCH(62,Equipment!$K:$K,0)),"") | H66: =IFERROR(INDEX(Equipment!H:H,MATCH(62,Equipment!$K:$K,0)),"")
A67: =IFERROR(INDEX(Equipment!A:A,MATCH(63,Equipment!$K:$K,0)),"") | B67: =IFERROR(INDEX(Equipment!B:B,MATCH(63,Equipment!$K:$K,0)),"") | C67: =IFERROR(INDEX(Equipment!C:C,MATCH(63,Equipment!$K:$K,0)),"") | D67: =IFERROR(INDEX(Equipment!D:D,MATCH(63,Equipment!$K:$K,0)),"") | E67: =IFERROR(INDEX(Equipment!E:E,MATCH(63,Equipment!$K:$K,0)),"") | F67: =IFERROR(INDEX(Equipment!F:F,MATCH(63,Equipment!$K:$K,0)),"") | G67: =IFERROR(INDEX(Equipment!G:G,MATCH(63,Equipment!$K:$K,0)),"") | H67: =IFERROR(INDEX(Equipment!H:H,MATCH(63,Equipment!$K:$K,0)),"")
A68: =IFERROR(INDEX(Equipment!A:A,MATCH(64,Equipment!$K:$K,0)),"") | B68: =IFERROR(INDEX(Equipment!B:B,MATCH(64,Equipment!$K:$K,0)),"") | C68: =IFERROR(INDEX(Equipment!C:C,MATCH(64,Equipment!$K:$K,0)),"") | D68: =IFERROR(INDEX(Equipment!D:D,MATCH(64,Equipment!$K:$K,0)),"") | E68: =IFERROR(INDEX(Equipment!E:E,MATCH(64,Equipment!$K:$K,0)),"") | F68: =IFERROR(INDEX(Equipment!F:F,MATCH(64,Equipment!$K:$K,0)),"") | G68: =IFERROR(INDEX(Equipment!G:G,MATCH(64,Equipment!$K:$K,0)),"") | H68: =IFERROR(INDEX(Equipment!H:H,MATCH(64,Equipment!$K:$K,0)),"")
A69: =IFERROR(INDEX(Equipment!A:A,MATCH(65,Equipment!$K:$K,0)),"") | B69: =IFERROR(INDEX(Equipment!B:B,MATCH(65,Equipment!$K:$K,0)),"") | C69: =IFERROR(INDEX(Equipment!C:C,MATCH(65,Equipment!$K:$K,0)),"") | D69: =IFERROR(INDEX(Equipment!D:D,MATCH(65,Equipment!$K:$K,0)),"") | E69: =IFERROR(INDEX(Equipment!E:E,MATCH(65,Equipment!$K:$K,0)),"") | F69: =IFERROR(INDEX(Equipment!F:F,MATCH(65,Equipment!$K:$K,0)),"") | G69: =IFERROR(INDEX(Equipment!G:G,MATCH(65,Equipment!$K:$K,0)),"") | H69: =IFERROR(INDEX(Equipment!H:H,MATCH(65,Equipment!$K:$K,0)),"")
A70: =IFERROR(INDEX(Equipment!A:A,MATCH(66,Equipment!$K:$K,0)),"") | B70: =IFERROR(INDEX(Equipment!B:B,MATCH(66,Equipment!$K:$K,0)),"") | C70: =IFERROR(INDEX(Equipment!C:C,MATCH(66,Equipment!$K:$K,0)),"") | D70: =IFERROR(INDEX(Equipment!D:D,MATCH(66,Equipment!$K:$K,0)),"") | E70: =IFERROR(INDEX(Equipment!E:E,MATCH(66,Equipment!$K:$K,0)),"") | F70: =IFERROR(INDEX(Equipment!F:F,MATCH(66,Equipment!$K:$K,0)),"") | G70: =IFERROR(INDEX(Equipment!G:G,MATCH(66,Equipment!$K:$K,0)),"") | H70: =IFERROR(INDEX(Equipment!H:H,MATCH(66,Equipment!$K:$K,0)),"")
A71: =IFERROR(INDEX(Equipment!A:A,MATCH(67,Equipment!$K:$K,0)),"") | B71: =IFERROR(INDEX(Equipment!B:B,MATCH(67,Equipment!$K:$K,0)),"") | C71: =IFERROR(INDEX(Equipment!C:C,MATCH(67,Equipment!$K:$K,0)),"") | D71: =IFERROR(INDEX(Equipment!D:D,MATCH(67,Equipment!$K:$K,0)),"") | E71: =IFERROR(INDEX(Equipment!E:E,MATCH(67,Equipment!$K:$K,0)),"") | F71: =IFERROR(INDEX(Equipment!F:F,MATCH(67,Equipment!$K:$K,0)),"") | G71: =IFERROR(INDEX(Equipment!G:G,MATCH(67,Equipment!$K:$K,0)),"") | H71: =IFERROR(INDEX(Equipment!H:H,MATCH(67,Equipment!$K:$K,0)),"")
A72: =IFERROR(INDEX(Equipment!A:A,MATCH(68,Equipment!$K:$K,0)),"") | B72: =IFERROR(INDEX(Equipment!B:B,MATCH(68,Equipment!$K:$K,0)),"") | C72: =IFERROR(INDEX(Equipment!C:C,MATCH(68,Equipment!$K:$K,0)),"") | D72: =IFERROR(INDEX(Equipment!D:D,MATCH(68,Equipment!$K:$K,0)),"") | E72: =IFERROR(INDEX(Equipment!E:E,MATCH(68,Equipment!$K:$K,0)),"") | F72: =IFERROR(INDEX(Equipment!F:F,MATCH(68,Equipment!$K:$K,0)),"") | G72: =IFERROR(INDEX(Equipment!G:G,MATCH(68,Equipment!$K:$K,0)),"") | H72: =IFERROR(INDEX(Equipment!H:H,MATCH(68,Equipment!$K:$K,0)),"")
A73: =IFERROR(INDEX(Equipment!A:A,MATCH(69,Equipment!$K:$K,0)),"") | B73: =IFERROR(INDEX(Equipment!B:B,MATCH(69,Equipment!$K:$K,0)),"") | C73: =IFERROR(INDEX(Equipment!C:C,MATCH(69,Equipment!$K:$K,0)),"") | D73: =IFERROR(INDEX(Equipment!D:D,MATCH(69,Equipment!$K:$K,0)),"") | E73: =IFERROR(INDEX(Equipment!E:E,MATCH(69,Equipment!$K:$K,0)),"") | F73: =IFERROR(INDEX(Equipment!F:F,MATCH(69,Equipment!$K:$K,0)),"") | G73: =IFERROR(INDEX(Equipment!G:G,MATCH(69,Equipment!$K:$K,0)),"") | H73: =IFERROR(INDEX(Equipment!H:H,MATCH(69,Equipment!$K:$K,0)),"")
A74: =IFERROR(INDEX(Equipment!A:A,MATCH(70,Equipment!$K:$K,0)),"") | B74: =IFERROR(INDEX(Equipment!B:B,MATCH(70,Equipment!$K:$K,0)),"") | C74: =IFERROR(INDEX(Equipment!C:C,MATCH(70,Equipment!$K:$K,0)),"") | D74: =IFERROR(INDEX(Equipment!D:D,MATCH(70,Equipment!$K:$K,0)),"") | E74: =IFERROR(INDEX(Equipment!E:E,MATCH(70,Equipment!$K:$K,0)),"") | F74: =IFERROR(INDEX(Equipment!F:F,MATCH(70,Equipment!$K:$K,0)),"") | G74: =IFERROR(INDEX(Equipment!G:G,MATCH(70,Equipment!$K:$K,0)),"") | H74: =IFERROR(INDEX(Equipment!H:H,MATCH(70,Equipment!$K:$K,0)),"")
A75: =IFERROR(INDEX(Equipment!A:A,MATCH(71,Equipment!$K:$K,0)),"") | B75: =IFERROR(INDEX(Equipment!B:B,MATCH(71,Equipment!$K:$K,0)),"") | C75: =IFERROR(INDEX(Equipment!C:C,MATCH(71,Equipment!$K:$K,0)),"") | D75: =IFERROR(INDEX(Equipment!D:D,MATCH(71,Equipment!$K:$K,0)),"") | E75: =IFERROR(INDEX(Equipment!E:E,MATCH(71,Equipment!$K:$K,0)),"") | F75: =IFERROR(INDEX(Equipment!F:F,MATCH(71,Equipment!$K:$K,0)),"") | G75: =IFERROR(INDEX(Equipment!G:G,MATCH(71,Equipment!$K:$K,0)),"") | H75: =IFERROR(INDEX(Equipment!H:H,MATCH(71,Equipment!$K:$K,0)),"")
A76: =IFERROR(INDEX(Equipment!A:A,MATCH(72,Equipment!$K:$K,0)),"") | B76: =IFERROR(INDEX(Equipment!B:B,MATCH(72,Equipment!$K:$K,0)),"") | C76: =IFERROR(INDEX(Equipment!C:C,MATCH(72,Equipment!$K:$K,0)),"") | D76: =IFERROR(INDEX(Equipment!D:D,MATCH(72,Equipment!$K:$K,0)),"") | E76: =IFERROR(INDEX(Equipment!E:E,MATCH(72,Equipment!$K:$K,0)),"") | F76: =IFERROR(INDEX(Equipment!F:F,MATCH(72,Equipment!$K:$K,0)),"") | G76: =IFERROR(INDEX(Equipment!G:G,MATCH(72,Equipment!$K:$K,0)),"") | H76: =IFERROR(INDEX(Equipment!H:H,MATCH(72,Equipment!$K:$K,0)),"")
A77: =IFERROR(INDEX(Equipment!A:A,MATCH(73,Equipment!$K:$K,0)),"") | B77: =IFERROR(INDEX(Equipment!B:B,MATCH(73,Equipment!$K:$K,0)),"") | C77: =IFERROR(INDEX(Equipment!C:C,MATCH(73,Equipment!$K:$K,0)),"") | D77: =IFERROR(INDEX(Equipment!D:D,MATCH(73,Equipment!$K:$K,0)),"") | E77: =IFERROR(INDEX(Equipment!E:E,MATCH(73,Equipment!$K:$K,0)),"") | F77: =IFERROR(INDEX(Equipment!F:F,MATCH(73,Equipment!$K:$K,0)),"") | G77: =IFERROR(INDEX(Equipment!G:G,MATCH(73,Equipment!$K:$K,0)),"") | H77: =IFERROR(INDEX(Equipment!H:H,MATCH(73,Equipment!$K:$K,0)),"")
A78: =IFERROR(INDEX(Equipment!A:A,MATCH(74,Equipment!$K:$K,0)),"") | B78: =IFERROR(INDEX(Equipment!B:B,MATCH(74,Equipment!$K:$K,0)),"") | C78: =IFERROR(INDEX(Equipment!C:C,MATCH(74,Equipment!$K:$K,0)),"") | D78: =IFERROR(INDEX(Equipment!D:D,MATCH(74,Equipment!$K:$K,0)),"") | E78: =IFERROR(INDEX(Equipment!E:E,MATCH(74,Equipment!$K:$K,0)),"") | F78: =IFERROR(INDEX(Equipment!F:F,MATCH(74,Equipment!$K:$K,0)),"") | G78: =IFERROR(INDEX(Equipment!G:G,MATCH(74,Equipment!$K:$K,0)),"") | H78: =IFERROR(INDEX(Equipment!H:H,MATCH(74,Equipment!$K:$K,0)),"")
A79: =IFERROR(INDEX(Equipment!A:A,MATCH(75,Equipment!$K:$K,0)),"") | B79: =IFERROR(INDEX(Equipment!B:B,MATCH(75,Equipment!$K:$K,0)),"") | C79: =IFERROR(INDEX(Equipment!C:C,MATCH(75,Equipment!$K:$K,0)),"") | D79: =IFERROR(INDEX(Equipment!D:D,MATCH(75,Equipment!$K:$K,0)),"") | E79: =IFERROR(INDEX(Equipment!E:E,MATCH(75,Equipment!$K:$K,0)),"") | F79: =IFERROR(INDEX(Equipment!F:F,MATCH(75,Equipment!$K:$K,0)),"") | G79: =IFERROR(INDEX(Equipment!G:G,MATCH(75,Equipment!$K:$K,0)),"") | H79: =IFERROR(INDEX(Equipment!H:H,MATCH(75,Equipment!$K:$K,0)),"")
A80: =IFERROR(INDEX(Equipment!A:A,MATCH(76,Equipment!$K:$K,0)),"") | B80: =IFERROR(INDEX(Equipment!B:B,MATCH(76,Equipment!$K:$K,0)),"") | C80: =IFERROR(INDEX(Equipment!C:C,MATCH(76,Equipment!$K:$K,0)),"") | D80: =IFERROR(INDEX(Equipment!D:D,MATCH(76,Equipment!$K:$K,0)),"") | E80: =IFERROR(INDEX(Equipment!E:E,MATCH(76,Equipment!$K:$K,0)),"") | F80: =IFERROR(INDEX(Equipment!F:F,MATCH(76,Equipment!$K:$K,0)),"") | G80: =IFERROR(INDEX(Equipment!G:G,MATCH(76,Equipment!$K:$K,0)),"") | H80: =IFERROR(INDEX(Equipment!H:H,MATCH(76,Equipment!$K:$K,0)),"")
A81: =IFERROR(INDEX(Equipment!A:A,MATCH(77,Equipment!$K:$K,0)),"") | B81: =IFERROR(INDEX(Equipment!B:B,MATCH(77,Equipment!$K:$K,0)),"") | C81: =IFERROR(INDEX(Equipment!C:C,MATCH(77,Equipment!$K:$K,0)),"") | D81: =IFERROR(INDEX(Equipment!D:D,MATCH(77,Equipment!$K:$K,0)),"") | E81: =IFERROR(INDEX(Equipment!E:E,MATCH(77,Equipment!$K:$K,0)),"") | F81: =IFERROR(INDEX(Equipment!F:F,MATCH(77,Equipment!$K:$K,0)),"") | G81: =IFERROR(INDEX(Equipment!G:G,MATCH(77,Equipment!$K:$K,0)),"") | H81: =IFERROR(INDEX(Equipment!H:H,MATCH(77,Equipment!$K:$K,0)),"")
A82: =IFERROR(INDEX(Equipment!A:A,MATCH(78,Equipment!$K:$K,0)),"") | B82: =IFERROR(INDEX(Equipment!B:B,MATCH(78,Equipment!$K:$K,0)),"") | C82: =IFERROR(INDEX(Equipment!C:C,MATCH(78,Equipment!$K:$K,0)),"") | D82: =IFERROR(INDEX(Equipment!D:D,MATCH(78,Equipment!$K:$K,0)),"") | E82: =IFERROR(INDEX(Equipment!E:E,MATCH(78,Equipment!$K:$K,0)),"") | F82: =IFERROR(INDEX(Equipment!F:F,MATCH(78,Equipment!$K:$K,0)),"") | G82: =IFERROR(INDEX(Equipment!G:G,MATCH(78,Equipment!$K:$K,0)),"") | H82: =IFERROR(INDEX(Equipment!H:H,MATCH(78,Equipment!$K:$K,0)),"")
A83: =IFERROR(INDEX(Equipment!A:A,MATCH(79,Equipment!$K:$K,0)),"") | B83: =IFERROR(INDEX(Equipment!B:B,MATCH(79,Equipment!$K:$K,0)),"") | C83: =IFERROR(INDEX(Equipment!C:C,MATCH(79,Equipment!$K:$K,0)),"") | D83: =IFERROR(INDEX(Equipment!D:D,MATCH(79,Equipment!$K:$K,0)),"") | E83: =IFERROR(INDEX(Equipment!E:E,MATCH(79,Equipment!$K:$K,0)),"") | F83: =IFERROR(INDEX(Equipment!F:F,MATCH(79,Equipment!$K:$K,0)),"") | G83: =IFERROR(INDEX(Equipment!G:G,MATCH(79,Equipment!$K:$K,0)),"") | H83: =IFERROR(INDEX(Equipment!H:H,MATCH(79,Equipment!$K:$K,0)),"")
A84: =IFERROR(INDEX(Equipment!A:A,MATCH(80,Equipment!$K:$K,0)),"") | B84: =IFERROR(INDEX(Equipment!B:B,MATCH(80,Equipment!$K:$K,0)),"") | C84: =IFERROR(INDEX(Equipment!C:C,MATCH(80,Equipment!$K:$K,0)),"") | D84: =IFERROR(INDEX(Equipment!D:D,MATCH(80,Equipment!$K:$K,0)),"") | E84: =IFERROR(INDEX(Equipment!E:E,MATCH(80,Equipment!$K:$K,0)),"") | F84: =IFERROR(INDEX(Equipment!F:F,MATCH(80,Equipment!$K:$K,0)),"") | G84: =IFERROR(INDEX(Equipment!G:G,MATCH(80,Equipment!$K:$K,0)),"") | H84: =IFERROR(INDEX(Equipment!H:H,MATCH(80,Equipment!$K:$K,0)),"")
A85: =IFERROR(INDEX(Equipment!A:A,MATCH(81,Equipment!$K:$K,0)),"") | B85: =IFERROR(INDEX(Equipment!B:B,MATCH(81,Equipment!$K:$K,0)),"") | C85: =IFERROR(INDEX(Equipment!C:C,MATCH(81,Equipment!$K:$K,0)),"") | D85: =IFERROR(INDEX(Equipment!D:D,MATCH(81,Equipment!$K:$K,0)),"") | E85: =IFERROR(INDEX(Equipment!E:E,MATCH(81,Equipment!$K:$K,0)),"") | F85: =IFERROR(INDEX(Equipment!F:F,MATCH(81,Equipment!$K:$K,0)),"") | G85: =IFERROR(INDEX(Equipment!G:G,MATCH(81,Equipment!$K:$K,0)),"") | H85: =IFERROR(INDEX(Equipment!H:H,MATCH(81,Equipment!$K:$K,0)),"")
A86: =IFERROR(INDEX(Equipment!A:A,MATCH(82,Equipment!$K:$K,0)),"") | B86: =IFERROR(INDEX(Equipment!B:B,MATCH(82,Equipment!$K:$K,0)),"") | C86: =IFERROR(INDEX(Equipment!C:C,MATCH(82,Equipment!$K:$K,0)),"") | D86: =IFERROR(INDEX(Equipment!D:D,MATCH(82,Equipment!$K:$K,0)),"") | E86: =IFERROR(INDEX(Equipment!E:E,MATCH(82,Equipment!$K:$K,0)),"") | F86: =IFERROR(INDEX(Equipment!F:F,MATCH(82,Equipment!$K:$K,0)),"") | G86: =IFERROR(INDEX(Equipment!G:G,MATCH(82,Equipment!$K:$K,0)),"") | H86: =IFERROR(INDEX(Equipment!H:H,MATCH(82,Equipment!$K:$K,0)),"")
A87: =IFERROR(INDEX(Equipment!A:A,MATCH(83,Equipment!$K:$K,0)),"") | B87: =IFERROR(INDEX(Equipment!B:B,MATCH(83,Equipment!$K:$K,0)),"") | C87: =IFERROR(INDEX(Equipment!C:C,MATCH(83,Equipment!$K:$K,0)),"") | D87: =IFERROR(INDEX(Equipment!D:D,MATCH(83,Equipment!$K:$K,0)),"") | E87: =IFERROR(INDEX(Equipment!E:E,MATCH(83,Equipment!$K:$K,0)),"") | F87: =IFERROR(INDEX(Equipment!F:F,MATCH(83,Equipment!$K:$K,0)),"") | G87: =IFERROR(INDEX(Equipment!G:G,MATCH(83,Equipment!$K:$K,0)),"") | H87: =IFERROR(INDEX(Equipment!H:H,MATCH(83,Equipment!$K:$K,0)),"")
A88: =IFERROR(INDEX(Equipment!A:A,MATCH(84,Equipment!$K:$K,0)),"") | B88: =IFERROR(INDEX(Equipment!B:B,MATCH(84,Equipment!$K:$K,0)),"") | C88: =IFERROR(INDEX(Equipment!C:C,MATCH(84,Equipment!$K:$K,0)),"") | D88: =IFERROR(INDEX(Equipment!D:D,MATCH(84,Equipment!$K:$K,0)),"") | E88: =IFERROR(INDEX(Equipment!E:E,MATCH(84,Equipment!$K:$K,0)),"") | F88: =IFERROR(INDEX(Equipment!F:F,MATCH(84,Equipment!$K:$K,0)),"") | G88: =IFERROR(INDEX(Equipment!G:G,MATCH(84,Equipment!$K:$K,0)),"") | H88: =IFERROR(INDEX(Equipment!H:H,MATCH(84,Equipment!$K:$K,0)),"")
A89: =IFERROR(INDEX(Equipment!A:A,MATCH(85,Equipment!$K:$K,0)),"") | B89: =IFERROR(INDEX(Equipment!B:B,MATCH(85,Equipment!$K:$K,0)),"") | C89: =IFERROR(INDEX(Equipment!C:C,MATCH(85,Equipment!$K:$K,0)),"") | D89: =IFERROR(INDEX(Equipment!D:D,MATCH(85,Equipment!$K:$K,0)),"") | E89: =IFERROR(INDEX(Equipment!E:E,MATCH(85,Equipment!$K:$K,0)),"") | F89: =IFERROR(INDEX(Equipment!F:F,MATCH(85,Equipment!$K:$K,0)),"") | G89: =IFERROR(INDEX(Equipment!G:G,MATCH(85,Equipment!$K:$K,0)),"") | H89: =IFERROR(INDEX(Equipment!H:H,MATCH(85,Equipment!$K:$K,0)),"")
A90: =IFERROR(INDEX(Equipment!A:A,MATCH(86,Equipment!$K:$K,0)),"") | B90: =IFERROR(INDEX(Equipment!B:B,MATCH(86,Equipment!$K:$K,0)),"") | C90: =IFERROR(INDEX(Equipment!C:C,MATCH(86,Equipment!$K:$K,0)),"") | D90: =IFERROR(INDEX(Equipment!D:D,MATCH(86,Equipment!$K:$K,0)),"") | E90: =IFERROR(INDEX(Equipment!E:E,MATCH(86,Equipment!$K:$K,0)),"") | F90: =IFERROR(INDEX(Equipment!F:F,MATCH(86,Equipment!$K:$K,0)),"") | G90: =IFERROR(INDEX(Equipment!G:G,MATCH(86,Equipment!$K:$K,0)),"") | H90: =IFERROR(INDEX(Equipment!H:H,MATCH(86,Equipment!$K:$K,0)),"")
A91: =IFERROR(INDEX(Equipment!A:A,MATCH(87,Equipment!$K:$K,0)),"") | B91: =IFERROR(INDEX(Equipment!B:B,MATCH(87,Equipment!$K:$K,0)),"") | C91: =IFERROR(INDEX(Equipment!C:C,MATCH(87,Equipment!$K:$K,0)),"") | D91: =IFERROR(INDEX(Equipment!D:D,MATCH(87,Equipment!$K:$K,0)),"") | E91: =IFERROR(INDEX(Equipment!E:E,MATCH(87,Equipment!$K:$K,0)),"") | F91: =IFERROR(INDEX(Equipment!F:F,MATCH(87,Equipment!$K:$K,0)),"") | G91: =IFERROR(INDEX(Equipment!G:G,MATCH(87,Equipment!$K:$K,0)),"") | H91: =IFERROR(INDEX(Equipment!H:H,MATCH(87,Equipment!$K:$K,0)),"")
A92: =IFERROR(INDEX(Equipment!A:A,MATCH(88,Equipment!$K:$K,0)),"") | B92: =IFERROR(INDEX(Equipment!B:B,MATCH(88,Equipment!$K:$K,0)),"") | C92: =IFERROR(INDEX(Equipment!C:C,MATCH(88,Equipment!$K:$K,0)),"") | D92: =IFERROR(INDEX(Equipment!D:D,MATCH(88,Equipment!$K:$K,0)),"") | E92: =IFERROR(INDEX(Equipment!E:E,MATCH(88,Equipment!$K:$K,0)),"") | F92: =IFERROR(INDEX(Equipment!F:F,MATCH(88,Equipment!$K:$K,0)),"") | G92: =IFERROR(INDEX(Equipment!G:G,MATCH(88,Equipment!$K:$K,0)),"") | H92: =IFERROR(INDEX(Equipment!H:H,MATCH(88,Equipment!$K:$K,0)),"")
A93: =IFERROR(INDEX(Equipment!A:A,MATCH(89,Equipment!$K:$K,0)),"") | B93: =IFERROR(INDEX(Equipment!B:B,MATCH(89,Equipment!$K:$K,0)),"") | C93: =IFERROR(INDEX(Equipment!C:C,MATCH(89,Equipment!$K:$K,0)),"") | D93: =IFERROR(INDEX(Equipment!D:D,MATCH(89,Equipment!$K:$K,0)),"") | E93: =IFERROR(INDEX(Equipment!E:E,MATCH(89,Equipment!$K:$K,0)),"") | F93: =IFERROR(INDEX(Equipment!F:F,MATCH(89,Equipment!$K:$K,0)),"") | G93: =IFERROR(INDEX(Equipment!G:G,MATCH(89,Equipment!$K:$K,0)),"") | H93: =IFERROR(INDEX(Equipment!H:H,MATCH(89,Equipment!$K:$K,0)),"")
A94: =IFERROR(INDEX(Equipment!A:A,MATCH(90,Equipment!$K:$K,0)),"") | B94: =IFERROR(INDEX(Equipment!B:B,MATCH(90,Equipment!$K:$K,0)),"") | C94: =IFERROR(INDEX(Equipment!C:C,MATCH(90,Equipment!$K:$K,0)),"") | D94: =IFERROR(INDEX(Equipment!D:D,MATCH(90,Equipment!$K:$K,0)),"") | E94: =IFERROR(INDEX(Equipment!E:E,MATCH(90,Equipment!$K:$K,0)),"") | F94: =IFERROR(INDEX(Equipment!F:F,MATCH(90,Equipment!$K:$K,0)),"") | G94: =IFERROR(INDEX(Equipment!G:G,MATCH(90,Equipment!$K:$K,0)),"") | H94: =IFERROR(INDEX(Equipment!H:H,MATCH(90,Equipment!$K:$K,0)),"")
A95: =IFERROR(INDEX(Equipment!A:A,MATCH(91,Equipment!$K:$K,0)),"") | B95: =IFERROR(INDEX(Equipment!B:B,MATCH(91,Equipment!$K:$K,0)),"") | C95: =IFERROR(INDEX(Equipment!C:C,MATCH(91,Equipment!$K:$K,0)),"") | D95: =IFERROR(INDEX(Equipment!D:D,MATCH(91,Equipment!$K:$K,0)),"") | E95: =IFERROR(INDEX(Equipment!E:E,MATCH(91,Equipment!$K:$K,0)),"") | F95: =IFERROR(INDEX(Equipment!F:F,MATCH(91,Equipment!$K:$K,0)),"") | G95: =IFERROR(INDEX(Equipment!G:G,MATCH(91,Equipment!$K:$K,0)),"") | H95: =IFERROR(INDEX(Equipment!H:H,MATCH(91,Equipment!$K:$K,0)),"")
A96: =IFERROR(INDEX(Equipment!A:A,MATCH(92,Equipment!$K:$K,0)),"") | B96: =IFERROR(INDEX(Equipment!B:B,MATCH(92,Equipment!$K:$K,0)),"") | C96: =IFERROR(INDEX(Equipment!C:C,MATCH(92,Equipment!$K:$K,0)),"") | D96: =IFERROR(INDEX(Equipment!D:D,MATCH(92,Equipment!$K:$K,0)),"") | E96: =IFERROR(INDEX(Equipment!E:E,MATCH(92,Equipment!$K:$K,0)),"") | F96: =IFERROR(INDEX(Equipment!F:F,MATCH(92,Equipment!$K:$K,0)),"") | G96: =IFERROR(INDEX(Equipment!G:G,MATCH(92,Equipment!$K:$K,0)),"") | H96: =IFERROR(INDEX(Equipment!H:H,MATCH(92,Equipment!$K:$K,0)),"")
A97: =IFERROR(INDEX(Equipment!A:A,MATCH(93,Equipment!$K:$K,0)),"") | B97: =IFERROR(INDEX(Equipment!B:B,MATCH(93,Equipment!$K:$K,0)),"") | C97: =IFERROR(INDEX(Equipment!C:C,MATCH(93,Equipment!$K:$K,0)),"") | D97: =IFERROR(INDEX(Equipment!D:D,MATCH(93,Equipment!$K:$K,0)),"") | E97: =IFERROR(INDEX(Equipment!E:E,MATCH(93,Equipment!$K:$K,0)),"") | F97: =IFERROR(INDEX(Equipment!F:F,MATCH(93,Equipment!$K:$K,0)),"") | G97: =IFERROR(INDEX(Equipment!G:G,MATCH(93,Equipment!$K:$K,0)),"") | H97: =IFERROR(INDEX(Equipment!H:H,MATCH(93,Equipment!$K:$K,0)),"")
A98: =IFERROR(INDEX(Equipment!A:A,MATCH(94,Equipment!$K:$K,0)),"") | B98: =IFERROR(INDEX(Equipment!B:B,MATCH(94,Equipment!$K:$K,0)),"") | C98: =IFERROR(INDEX(Equipment!C:C,MATCH(94,Equipment!$K:$K,0)),"") | D98: =IFERROR(INDEX(Equipment!D:D,MATCH(94,Equipment!$K:$K,0)),"") | E98: =IFERROR(INDEX(Equipment!E:E,MATCH(94,Equipment!$K:$K,0)),"") | F98: =IFERROR(INDEX(Equipment!F:F,MATCH(94,Equipment!$K:$K,0)),"") | G98: =IFERROR(INDEX(Equipment!G:G,MATCH(94,Equipment!$K:$K,0)),"") | H98: =IFERROR(INDEX(Equipment!H:H,MATCH(94,Equipment!$K:$K,0)),"")
A99: =IFERROR(INDEX(Equipment!A:A,MATCH(95,Equipment!$K:$K,0)),"") | B99: =IFERROR(INDEX(Equipment!B:B,MATCH(95,Equipment!$K:$K,0)),"") | C99: =IFERROR(INDEX(Equipment!C:C,MATCH(95,Equipment!$K:$K,0)),"") | D99: =IFERROR(INDEX(Equipment!D:D,MATCH(95,Equipment!$K:$K,0)),"") | E99: =IFERROR(INDEX(Equipment!E:E,MATCH(95,Equipment!$K:$K,0)),"") | F99: =IFERROR(INDEX(Equipment!F:F,MATCH(95,Equipment!$K:$K,0)),"") | G99: =IFERROR(INDEX(Equipment!G:G,MATCH(95,Equipment!$K:$K,0)),"") | H99: =IFERROR(INDEX(Equipment!H:H,MATCH(95,Equipment!$K:$K,0)),"")
A100: =IFERROR(INDEX(Equipment!A:A,MATCH(96,Equipment!$K:$K,0)),"") | B100: =IFERROR(INDEX(Equipment!B:B,MATCH(96,Equipment!$K:$K,0)),"") | C100: =IFERROR(INDEX(Equipment!C:C,MATCH(96,Equipment!$K:$K,0)),"") | D100: =IFERROR(INDEX(Equipment!D:D,MATCH(96,Equipment!$K:$K,0)),"") | E100: =IFERROR(INDEX(Equipment!E:E,MATCH(96,Equipment!$K:$K,0)),"") | F100: =IFERROR(INDEX(Equipment!F:F,MATCH(96,Equipment!$K:$K,0)),"") | G100: =IFERROR(INDEX(Equipment!G:G,MATCH(96,Equipment!$K:$K,0)),"") | H100: =IFERROR(INDEX(Equipment!H:H,MATCH(96,Equipment!$K:$K,0)),"")
A101: =IFERROR(INDEX(Equipment!A:A,MATCH(97,Equipment!$K:$K,0)),"") | B101: =IFERROR(INDEX(Equipment!B:B,MATCH(97,Equipment!$K:$K,0)),"") | C101: =IFERROR(INDEX(Equipment!C:C,MATCH(97,Equipment!$K:$K,0)),"") | D101: =IFERROR(INDEX(Equipment!D:D,MATCH(97,Equipment!$K:$K,0)),"") | E101: =IFERROR(INDEX(Equipment!E:E,MATCH(97,Equipment!$K:$K,0)),"") | F101: =IFERROR(INDEX(Equipment!F:F,MATCH(97,Equipment!$K:$K,0)),"") | G101: =IFERROR(INDEX(Equipment!G:G,MATCH(97,Equipment!$K:$K,0)),"") | H101: =IFERROR(INDEX(Equipment!H:H,MATCH(97,Equipment!$K:$K,0)),"")
...
