Workbook

Sheet README
A1: Equipment Tracker - SAMPLE/DEMO TEMPLATE (fictional data, not client work)
A2: 1. Lists: edit Locations, Containers/Vehicles and Statuses.
A3: 2. Equipment: one row per item; Location/Container/Status are dropdowns; colours show status.
A4: 3. Dashboard: counts per location x status update automatically.
A5: 4. Manifest: pick a location or container in B1 to get a printable list (up to 150 items).
A6: Import into Google Sheets: File > Import > Upload. Dropdowns and formulas carry over.

Sheet Lists
A1: Locations | B1: Containers/Vehicles | C1: Statuses
A2: Location 01 | B2: Van 1 | C2: Available
A3: Location 02 | B3: Van 2 | C3: In Use
A4: Location 03 | B4: Truck 1 | C4: In Repair
A5: Location 04 | B5: Trailer A | C5: Missing
A6: Location 05 | B6: Container C1 | C6: Retired
A7: Location 06 | B7: Container C2
A8: Location 07 | B8: Shelf / Loose
A9: Location 08
A10: Location 09
A11: Location 10
A12: Location 11
A13: Location 12

Sheet Equipment
A1: Asset ID | B1: Item | C1: Category | D1: Location | E1: Container/Vehicle | F1: Status | G1: Qty | H1: Serial # | I1: Last Checked | J1: Notes | K1: Manifest #
A2: EQ-0001 | B2: Hand truck | C2: Moving | D2: Location 03 | E2: Trailer A | F2: In Use | G2: 1 | H2: SN80239 | I2: 46299 | K2: =IF(AND(A2<>"",OR(D2=Manifest!$B$1,E2=Manifest!$B$1)),MAX(K$1:K1)+1,"")
A3: EQ-0002 | B3: Hand truck | C3: Moving | D3: Location 10 | E3: Van 1 | F3: Missing | G3: 2 | H3: SN14914 | I3: 46298 | K3: =IF(AND(A3<>"",OR(D3=Manifest!$B$1,E3=Manifest!$B$1)),MAX(K$1:K2)+1,"")
A4: EQ-0003 | B4: Moving blankets (pack) | C4: Moving | D4: Location 07 | E4: Van 1 | F4: Available | G4: 5 | H4: SN65642 | I4: 46297 | K4: =IF(AND(A4<>"",OR(D4=Manifest!$B$1,E4=Manifest!$B$1)),MAX(K$1:K3)+1,"")
A5: EQ-0004 | B5: Hard hats (box) | C5: PPE | D5: Location 02 | E5: Van 2 | F5: In Use | G5: 5 | H5: SN18108 | I5: 46314 | K5: =IF(AND(A5<>"",OR(D5=Manifest!$B$1,E5=Manifest!$B$1)),MAX(K$1:K4)+1,"")
A6: EQ-0005 | B6: Hard hats (box) | C6: PPE | D6: Location 07 | E6: Van 1 | F6: Retired | G6: 1 | H6: SN82963 | I6: 46323 | K6: =IF(AND(A6<>"",OR(D6=Manifest!$B$1,E6=Manifest!$B$1)),MAX(K$1:K5)+1,"")
A7: EQ-0006 | B7: Extension cord 50ft | C7: Power | D7: Location 05 | E7: Trailer A | F7: Available | G7: 1 | H7: SN84830 | I7: 46305 | K7: =IF(AND(A7<>"",OR(D7=Manifest!$B$1,E7=Manifest!$B$1)),MAX(K$1:K6)+1,"")
A8: EQ-0007 | B8: Safety vests (box) | C8: PPE | D8: Location 11 | E8: Van 2 | F8: Available | G8: 5 | H8: SN93743 | I8: 46302 | K8: =IF(AND(A8<>"",OR(D8=Manifest!$B$1,E8=Manifest!$B$1)),MAX(K$1:K7)+1,"")
A9: EQ-0008 | B9: Hand truck | C9: Moving | D9: Location 02 | E9: Container C1 | F9: In Use | G9: 5 | H9: SN17812 | I9: 46315 | K9: =IF(AND(A9<>"",OR(D9=Manifest!$B$1,E9=Manifest!$B$1)),MAX(K$1:K8)+1,"")
A10: EQ-0009 | B10: Drill kit | C10: Tools | D10: Location 08 | E10: Container C2 | F10: Available | G10: 3 | H10: SN71027 | I10: 46314 | K10: =IF(AND(A10<>"",OR(D10=Manifest!$B$1,E10=Manifest!$B$1)),MAX(K$1:K9)+1,"")
A11: EQ-0010 | B11: Tarp 20x30 | C11: Cover | D11: Location 06 | E11: Truck 1 | F11: Available | G11: 2 | H11: SN41994 | I11: 46298 | K11: =IF(AND(A11<>"",OR(D11=Manifest!$B$1,E11=Manifest!$B$1)),MAX(K$1:K10)+1,"")
A12: EQ-0011 | B12: Hard hats (box) | C12: PPE | D12: Location 05 | E12: Container C1 | F12: Available | G12: 3 | H12: SN68829 | I12: 46305 | K12: =IF(AND(A12<>"",OR(D12=Manifest!$B$1,E12=Manifest!$B$1)),MAX(K$1:K11)+1,"")
A13: EQ-0012 | B13: Hard hats (box) | C13: PPE | D13: Location 02 | E13: Van 1 | F13: Available | G13: 2 | H13: SN54833 | I13: 46300 | K13: =IF(AND(A13<>"",OR(D13=Manifest!$B$1,E13=Manifest!$B$1)),MAX(K$1:K12)+1,"")
... A61: EQ-0060 | B61: Safety vests (box) | C61: PPE | D61: Location 09 | E61: Shelf / Loose | F61: Available | G61: 2 | H61: SN78578 | I61: 46324 | K61: =IF(AND(A61<>"",OR(D61=Manifest!$B$1,E61=Manifest!$B$1)),MAX(K$1:K60)+1,"")
K62: =IF(AND(A62<>"",OR(D62=Manifest!$B$1,E62=Manifest!$B$1)),MAX(K$1:K61)+1,"")
K63: =IF(AND(A63<>"",OR(D63=Manifest!$B$1,E63=Manifest!$B$1)),MAX(K$1:K62)+1,"")
K64: =IF(AND(A64<>"",OR(D64=Manifest!$B$1,E64=Manifest!$B$1)),MAX(K$1:K63)+1,"")
K65: =IF(AND(A65<>"",OR(D65=Manifest!$B$1,E65=Manifest!$B$1)),MAX(K$1:K64)+1,"")
K66: =IF(AND(A66<>"",OR(D66=Manifest!$B$1,E66=Manifest!$B$1)),MAX(K$1:K65)+1,"")
K67: =IF(AND(A67<>"",OR(D67=Manifest!$B$1,E67=Manifest!$B$1)),MAX(K$1:K66)+1,"")
K68: =IF(AND(A68<>"",OR(D68=Manifest!$B$1,E68=Manifest!$B$1)),MAX(K$1:K67)+1,"")
K69: =IF(AND(A69<>"",OR(D69=Manifest!$B$1,E69=Manifest!$B$1)),MAX(K$1:K68)+1,"")
K70: =IF(AND(A70<>"",OR(D70=Manifest!$B$1,E70=Manifest!$B$1)),MAX(K$1:K69)+1,"")
K71: =IF(AND(A71<>"",OR(D71=Manifest!$B$1,E71=Manifest!$B$1)),MAX(K$1:K70)+1,"")
K72: =IF(AND(A72<>"",OR(D72=Manifest!$B$1,E72=Manifest!$B$1)),MAX(K$1:K71)+1,"")
K73: =IF(AND(A73<>"",OR(D73=Manifest!$B$1,E73=Manifest!$B$1)),MAX(K$1:K72)+1,"")
... K500: =IF(AND(A500<>"",OR(D500=Manifest!$B$1,E500=Manifest!$B$1)),MAX(K$1:K499)+1,"")

Sheet Dashboard
A1: Location | B1: Available | C1: In Use | D1: In Repair | E1: Missing | F1: Retired | G1: Total items | H1: Total qty | J1: Items not checked in 30+ days
A2: =Lists!A2 | B2: =COUNTIFS(Equipment!$D:$D,$A2,Equipment!$F:$F,B$1) | C2: =COUNTIFS(Equipment!$D:$D,$A2,Equipment!$F:$F,C$1) | D2: =COUNTIFS(Equipment!$D:$D,$A2,Equipment!$F:$F,D$1) | E2: =COUNTIFS(Equipment!$D:$D,$A2,Equipment!$F:$F,E$1) | F2: =COUNTIFS(Equipment!$D:$D,$A2,Equipment!$F:$F,F$1) | G2: =COUNTIF(Equipment!$D:$D,$A2) | H2: =SUMIF(Equipment!$D:$D,$A2,Equipment!$G:$G) | J2: =COUNTIFS(Equipment!I:I,"<"&TODAY()-30,Equipment!A:A,"<>")
A3: =Lists!A3 | B3: =COUNTIFS(Equipment!$D:$D,$A3,Equipment!$F:$F,B$1) | C3: =COUNTIFS(Equipment!$D:$D,$A3,Equipment!$F:$F,C$1) | D3: =COUNTIFS(Equipment!$D:$D,$A3,Equipment!$F:$F,D$1) | E3: =COUNTIFS(Equipment!$D:$D,$A3,Equipment!$F:$F,E$1) | F3: =COUNTIFS(Equipment!$D:$D,$A3,Equipment!$F:$F,F$1) | G3: =COUNTIF(Equipment!$D:$D,$A3) | H3: =SUMIF(Equipment!$D:$D,$A3,Equipment!$G:$G)
A4: =Lists!A4 | B4: =COUNTIFS(Equipment!$D:$D,$A4,Equipment!$F:$F,B$1) | C4: =COUNTIFS(Equipment!$D:$D,$A4,Equipment!$F:$F,C$1) | D4: =COUNTIFS(Equipment!$D:$D,$A4,Equipment!$F:$F,D$1) | E4: =COUNTIFS(Equipment!$D:$D,$A4,Equipment!$F:$F,E$1) | F4: =COUNTIFS(Equipment!$D:$D,$A4,Equipment!$F:$F,F$1) | G4: =COUNTIF(Equipment!$D:$D,$A4) | H4: =SUMIF(Equipment!$D:$D,$A4,Equipment!$G:$G)
A5: =Lists!A5 | B5: =COUNTIFS(Equipment!$D:$D,$A5,Equipment!$F:$F,B$1) | C5: =COUNTIFS(Equipment!$D:$D,$A5,Equipment!$F:$F,C$1) | D5: =COUNTIFS(Equipment!$D:$D,$A5,Equipment!$F:$F,D$1) | E5: =COUNTIFS(Equipment!$D:$D,$A5,Equipment!$F:$F,E$1) | F5: =COUNTIFS(Equipment!$D:$D,$A5,Equipment!$F:$F,F$1) | G5: =COUNTIF(Equipment!$D:$D,$A5) | H5: =SUMIF(Equipment!$D:$D,$A5,Equipment!$G:$G)
A6: =Lists!A6 | B6: =COUNTIFS(Equipment!$D:$D,$A6,Equipment!$F:$F,B$1) | C6: =COUNTIFS(Equipment!$D:$D,$A6,Equipment!$F:$F,C$1) | D6: =COUNTIFS(Equipment!$D:$D,$A6,Equipment!$F:$F,D$1) | E6: =COUNTIFS(Equipment!$D:$D,$A6,Equipment!$F:$F,E$1) | F6: =COUNTIFS(Equipment!$D:$D,$A6,Equipment!$F:$F,F$1) | G6: =COUNTIF(Equipment!$D:$D,$A6) | H6: =SUMIF(Equipment!$D:$D,$A6,Equipment!$G:$G)
A7: =Lists!A7 | B7: =COUNTIFS(Equipment!$D:$D,$A7,Equipment!$F:$F,B$1) | C7: =COUNTIFS(Equipment!$D:$D,$A7,Equipment!$F:$F,C$1) | D7: =COUNTIFS(Equipment!$D:$D,$A7,Equipment!$F:$F,D$1) | E7: =COUNTIFS(Equipment!$D:$D,$A7,Equipment!$F:$F,E$1) | F7: =COUNTIFS(Equipment!$D:$D,$A7,Equipment!$F:$F,F$1) | G7: =COUNTIF(Equipment!$D:$D,$A7) | H7: =SUMIF(Equipment!$D:$D,$A7,Equipment!$G:$G)
A8: =Lists!A8 | B8: =COUNTIFS(Equipment!$D:$D,$A8,Equipment!$F:$F,B$1) | C8: =COUNTIFS(Equipment!$D:$D,$A8,Equipment!$F:$F,C$1) | D8: =COUNTIFS(Equipment!$D:$D,$A8,Equipment!$F:$F,D$1) | E8: =COUNTIFS(Equipment!$D:$D,$A8,Equipment!$F:$F,E$1) | F8: =COUNTIFS(Equipment!$D:$D,$A8,Equipment!$F:$F,F$1) | G8: =COUNTIF(Equipment!$D:$D,$A8) | H8: =SUMIF(Equipment!$D:$D,$A8,Equipment!$G:$G)
A9: =Lists!A9 | B9: =COUNTIFS(Equipment!$D:$D,$A9,Equipment!$F:$F,B$1) | C9: =COUNTIFS(Equipment!$D:$D,$A9,Equipment!$F:$F,C$1) | D9: =COUNTIFS(Equipment!$D:$D,$A9,Equipment!$F:$F,D$1) | E9: =COUNTIFS(Equipment!$D:$D,$A9,Equipment!$F:$F,E$1) | F9: =COUNTIFS(Equipment!$D:$D,$A9,Equipment!$F:$F,F$1) | G9: =COUNTIF(Equipment!$D:$D,$A9) | H9: =SUMIF(Equipment!$D:$D,$A9,Equipment!$G:$G)
A10: =Lists!A10 | B10: =COUNTIFS(Equipment!$D:$D,$A10,Equipment!$F:$F,B$1) | C10: =COUNTIFS(Equipment!$D:$D,$A10,Equipment!$F:$F,C$1) | D10: =COUNTIFS(Equipment!$D:$D,$A10,Equipment!$F:$F,D$1) | E10: =COUNTIFS(Equipment!$D:$D,$A10,Equipment!$F:$F,E$1) | F10: =COUNTIFS(Equipment!$D:$D,$A10,Equipment!$F:$F,F$1) | G10: =COUNTIF(Equipment!$D:$D,$A10) | H10: =SUMIF(Equipment!$D:$D,$A10,Equipment!$G:$G)
A11: =Lists!A11 | B11: =COUNTIFS(Equipment!$D:$D,$A11,Equipment!$F:$F,B$1) | C11: =COUNTIFS(Equipment!$D:$D,$A11,Equipment!$F:$F,C$1) | D11: =COUNTIFS(Equipment!$D:$D,$A11,Equipment!$F:$F,D$1) | E11: =COUNTIFS(Equipment!$D:$D,$A11,Equipment!$F:$F,E$1) | F11: =COUNTIFS(Equipment!$D:$D,$A11,Equipment!$F:$F,F$1) | G11: =COUNTIF(Equipment!$D:$D,$A11) | H11: =SUMIF(Equipment!$D:$D,$A11,Equipment!$G:$G)
A12: =Lists!A12 | B12: =COUNTIFS(Equipment!$D:$D,$A12,Equipment!$F:$F,B$1) | C12: =COUNTIFS(Equipment!$D:$D,$A12,Equipment!$F:$F,C$1) | D12: =COUNTIFS(Equipment!$D:$D,$A12,Equipment!$F:$F,D$1) | E12: =COUNTIFS(Equipment!$D:$D,$A12,Equipment!$F:$F,E$1) | F12: =COUNTIFS(Equipment!$D:$D,$A12,Equipment!$F:$F,F$1) | G12: =COUNTIF(Equipment!$D:$D,$A12) | H12: =SUMIF(Equipment!$D:$D,$A12,Equipment!$G:$G)
A13: =Lists!A13 | B13: =COUNTIFS(Equipment!$D:$D,$A13,Equipment!$F:$F,B$1) | C13: =COUNTIFS(Equipment!$D:$D,$A13,Equipment!$F:$F,C$1) | D13: =COUNTIFS(Equipment!$D:$D,$A13,Equipment!$F:$F,D$1) | E13: =COUNTIFS(Equipment!$D:$D,$A13,Equipment!$F:$F,E$1) | F13: =COUNTIFS(Equipment!$D:$D,$A13,Equipment!$F:$F,F$1) | G13: =COUNTIF(Equipment!$D:$D,$A13) | H13: =SUMIF(Equipment!$D:$D,$A13,Equipment!$G:$G)
A14: TOTAL | B14: =SUM(B2:B13) | C14: =SUM(C2:C13) | D14: =SUM(D2:D13) | E14: =SUM(E2:E13) | F14: =SUM(F2:F13) | G14: =SUM(G2:G13) | H14: =SUM(H2:H13)

Sheet Manifest
A1: Location or container: | B1: Location 01 | J1: Checked by: ____________ Signature: ____________
A2: Printed: | B2: =TODAY() | J2: ="Items on manifest: "&MAX(Equipment!K:K)
A4: Asset ID | B4: Item | C4: Category | D4: Location | E4: Container/Vehicle | F4: Status | G4: Qty | H4: Serial #
A5: =IFERROR(INDEX(Equipment!A:A,MATCH(1,Equipment!$K:$K,0)),"") | B5: =IFERROR(INDEX(Equipment!B:B,MATCH(1,Equipment!$K:$K,0)),"") | C5: =IFERROR(INDEX(Equipment!C:C,MATCH(1,Equipment!$K:$K,0)),"") | D5: =IFERROR(INDEX(Equipment!D:D,MATCH(1,Equipment!$K:$K,0)),"") | E5: =IFERROR(INDEX(Equipment!E:E,MATCH(1,Equipment!$K:$K,0)),"") | F5: =IFERROR(INDEX(Equipment!F:F,MATCH(1,Equipment!$K:$K,0)),"") | G5: =IFERROR(INDEX(Equipment!G:G,MATCH(1,Equipment!$K:$K,0)),"") | H5: =IFERROR(INDEX(Equipment!H:H,MATCH(1,Equipment!$K:$K,0)),"")
A6: =IFERROR(INDEX(Equipment!A:A,MATCH(2,Equipment!$K:$K,0)),"") | B6: =IFERROR(INDEX(Equipment!B:B,MATCH(2,Equipment!$K:$K,0)),"") | C6: =IFERROR(INDEX(Equipment!C:C,MATCH(2,Equipment!$K:$K,0)),"") | D6: =IFERROR(INDEX(Equipment!D:D,MATCH(2,Equipment!$K:$K,0)),"") | E6: =IFERROR(INDEX(Equipment!E:E,MATCH(2,Equipment!$K:$K,0)),"") | F6: =IFERROR(INDEX(Equipment!F:F,MATCH(2,Equipment!$K:$K,0)),"") | G6: =IFERROR(INDEX(Equipment!G:G,MATCH(2,Equipment!$K:$K,0)),"") | H6: =IFERROR(INDEX(Equipment!H:H,MATCH(2,Equipment!$K:$K,0)),"")
A7: =IFERROR(INDEX(Equipment!A:A,MATCH(3,Equipment!$K:$K,0)),"") | B7: =IFERROR(INDEX(Equipment!B:B,MATCH(3,Equipment!$K:$K,0)),"") | C7: =IFERROR(INDEX(Equipment!C:C,MATCH(3,Equipment!$K:$K,0)),"") | D7: =IFERROR(INDEX(Equipment!D:D,MATCH(3,Equipment!$K:$K,0)),"") | E7: =IFERROR(INDEX(Equipment!E:E,MATCH(3,Equipment!$K:$K,0)),"") | F7: =IFERROR(INDEX(Equipment!F:F,MATCH(3,Equipment!$K:$K,0)),"") | G7: =IFERROR(INDEX(Equipment!G:G,MATCH(3,Equipment!$K:$K,0)),"") | H7: =IFERROR(INDEX(Equipment!H:H,MATCH(3,Equipment!$K:$K,0)),"")
A8: =IFERROR(INDEX(Equipment!A:A,MATCH(4,Equipment!$K:$K,0)),"") | B8: =IFERROR(INDEX(Equipment!B:B,MATCH(4,Equipment!$K:$K,0)),"") | C8: =IFERROR(INDEX(Equipment!C:C,MATCH(4,Equipment!$K:$K,0)),"") | D8: =IFERROR(INDEX(Equipment!D:D,MATCH(4,Equipment!$K:$K,0)),"") | E8: =IFERROR(INDEX(Equipment!E:E,MATCH(4,Equipment!$K:$K,0)),"") | F8: =IFERROR(INDEX(Equipment!F:F,MATCH(4,Equipment!$K:$K,0)),"") | G8: =IFERROR(INDEX(Equipment!G:G,MATCH(4,Equipment!$K:$K,0)),"") | H8: =IFERROR(INDEX(Equipment!H:H,MATCH(4,Equipment!$K:$K,0)),"")
A9: =IFERROR(INDEX(Equipment!A:A,MATCH(5,Equipment!$K:$K,0)),"") | B9: =IFERROR(INDEX(Equipment!B:B,MATCH(5,Equipment!$K:$K,0)),"") | C9: =IFERROR(INDEX(Equipment!C:C,MATCH(5,Equipment!$K:$K,0)),"") | D9: =IFERROR(INDEX(Equipment!D:D,MATCH(5,Equipment!$K:$K,0)),"") | E9: =IFERROR(INDEX(Equipment!E:E,MATCH(5,Equipment!$K:$K,0)),"") | F9: =IFERROR(INDEX(Equipment!F:F,MATCH(5,Equipment!$K:$K,0)),"") | G9: =IFERROR(INDEX(Equipment!G:G,MATCH(5,Equipment!$K:$K,0)),"") | H9: =IFERROR(INDEX(Equipment!H:H,MATCH(5,Equipment!$K:$K,0)),"")
A10: =IFERROR(INDEX(Equipment!A:A,MATCH(6,Equipment!$K:$K,0)),"") | B10: =IFERROR(INDEX(Equipment!B:B,MATCH(6,Equipment!$K:$K,0)),"") | C10: =IFERROR(INDEX(Equipment!C:C,MATCH(6,Equipment!$K:$K,0)),"") | D10: =IFERROR(INDEX(Equipment!D:D,MATCH(6,Equipment!$K:$K,0)),"") | E10: =IFERROR(INDEX(Equipment!E:E,MATCH(6,Equipment!$K:$K,0)),"") | F10: =IFERROR(INDEX(Equipment!F:F,MATCH(6,Equipment!$K:$K,0)),"") | G10: =IFERROR(INDEX(Equipment!G:G,MATCH(6,Equipment!$K:$K,0)),"") | H10: =IFERROR(INDEX(Equipment!H:H,MATCH(6,Equipment!$K:$K,0)),"")
A11: =IFERROR(INDEX(Equipment!A:A,MATCH(7,Equipment!$K:$K,0)),"") | B11: =IFERROR(INDEX(Equipment!B:B,MATCH(7,Equipment!$K:$K,0)),"") | C11: =IFERROR(INDEX(Equipment!C:C,MATCH(7,Equipment!$K:$K,0)),"") | D11: =IFERROR(INDEX(Equipment!D:D,MATCH(7,Equipment!$K:$K,0)),"") | E11: =IFERROR(INDEX(Equipment!E:E,MATCH(7,Equipment!$K:$K,0)),"") | F11: =IFERROR(INDEX(Equipment!F:F,MATCH(7,Equipment!$K:$K,0)),"") | G11: =IFERROR(INDEX(Equipment!G:G,MATCH(7,Equipment!$K:$K,0)),"") | H11: =IFERROR(INDEX(Equipment!H:H,MATCH(7,Equipment!$K:$K,0)),"")
A12: =IFERROR(INDEX(Equipment!A:A,MATCH(8,Equipment!$K:$K,0)),"") | B12: =IFERROR(INDEX(Equipment!B:B,MATCH(8,Equipment!$K:$K,0)),"") | C12: =IFERROR(INDEX(Equipment!C:C,MATCH(8,Equipment!$K:$K,0)),"") | D12: =IFERROR(INDEX(Equipment!D:D,MATCH(8,Equipment!$K:$K,0)),"") | E12: =IFERROR(INDEX(Equipment!E:E,MATCH(8,Equipment!$K:$K,0)),"") | F12: =IFERROR(INDEX(Equipment!F:F,MATCH(8,Equipment!$K:$K,0)),"") | G12: =IFERROR(INDEX(Equipment!G:G,MATCH(8,Equipment!$K:$K,0)),"") | H12: =IFERROR(INDEX(Equipment!H:H,MATCH(8,Equipment!$K:$K,0)),"")
A13: =IFERROR(INDEX(Equipment!A:A,MATCH(9,Equipment!$K:$K,0)),"") | B13: =IFERROR(INDEX(Equipment!B:B,MATCH(9,Equipment!$K:$K,0)),"") | C13: =IFERROR(INDEX(Equipment!C:C,MATCH(9,Equipment!$K:$K,0)),"") | D13: =IFERROR(INDEX(Equipment!D:D,MATCH(9,Equipment!$K:$K,0)),"") | E13: =IFERROR(INDEX(Equipment!E:E,MATCH(9,Equipment!$K:$K,0)),"") | F13: =IFERROR(INDEX(Equipment!F:F,MATCH(9,Equipment!$K:$K,0)),"") | G13: =IFERROR(INDEX(Equipment!G:G,MATCH(9,Equipment!$K:$K,0)),"") | H13: =IFERROR(INDEX(Equipment!H:H,MATCH(9,Equipment!$K:$K,0)),"")
A14: =IFERROR(INDEX(Equipment!A:A,MATCH(10,Equipment!$K:$K,0)),"") | B14: =IFERROR(INDEX(Equipment!B:B,MATCH(10,Equipment!$K:$K,0)),"") | C14: =IFERROR(INDEX(Equipment!C:C,MATCH(10,Equipment!$K:$K,0)),"") | D14: =IFERROR(INDEX(Equipment!D:D,MATCH(10,Equipment!$K:$K,0)),"") | E14: =IFERROR(INDEX(Equipment!E:E,MATCH(10,Equipment!$K:$K,0)),"") | F14: =IFERROR(INDEX(Equipment!F:F,MATCH(10,Equipment!$K:$K,0)),"") | G14: =IFERROR(INDEX(Equipment!G:G,MATCH(10,Equipment!$K:$K,0)),"") | H14: =IFERROR(INDEX(Equipment!H:H,MATCH(10,Equipment!$K:$K,0)),"")
A15: =IFERROR(INDEX(Equipment!A:A,MATCH(11,Equipment!$K:$K,0)),"") | B15: =IFERROR(INDEX(Equipment!B:B,MATCH(11,Equipment!$K:$K,0)),"") | C15: =IFERROR(INDEX(Equipment!C:C,MATCH(11,Equipment!$K:$K,0)),"") | D15: =IFERROR(INDEX(Equipment!D:D,MATCH(11,Equipment!$K:$K,0)),"") | E15: =IFERROR(INDEX(Equipment!E:E,MATCH(11,Equipment!$K:$K,0)),"") | F15: =IFERROR(INDEX(Equipment!F:F,MATCH(11,Equipment!$K:$K,0)),"") | G15: =IFERROR(INDEX(Equipment!G:G,MATCH(11,Equipment!$K:$K,0)),"") | H15: =IFERROR(INDEX(Equipment!H:H,MATCH(11,Equipment!$K:$K,0)),"")
A16: =IFERROR(INDEX(Equipment!A:A,MATCH(12,Equipment!$K:$K,0)),"") | B16: =IFERROR(INDEX(Equipment!B:B,MATCH(12,Equipment!$K:$K,0)),"") | C16: =IFERROR(INDEX(Equipment!C:C,MATCH(12,Equipment!$K:$K,0)),"") | D16: =IFERROR(INDEX(Equipment!D:D,MATCH(12,Equipment!$K:$K,0)),"") | E16: =IFERROR(INDEX(Equipment!E:E,MATCH(12,Equipment!$K:$K,0)),"") | F16: =IFERROR(INDEX(Equipment!F:F,MATCH(12,Equipment!$K:$K,0)),"") | G16: =IFERROR(INDEX(Equipment!G:G,MATCH(12,Equipment!$K:$K,0)),"") | H16: =IFERROR(INDEX(Equipment!H:H,MATCH(12,Equipment!$K:$K,0)),"")
A17: =IFERROR(INDEX(Equipment!A:A,MATCH(13,Equipment!$K:$K,0)),"") | B17: =IFERROR(INDEX(Equipment!B:B,MATCH(13,Equipment!$K:$K,0)),"") | C17: =IFERROR(INDEX(Equipment!C:C,MATCH(13,Equipment!$K:$K,0)),"") | D17: =IFERROR(INDEX(Equipment!D:D,MATCH(13,Equipment!$K:$K,0)),"") | E17: =IFERROR(INDEX(Equipment!E:E,MATCH(13,Equipment!$K:$K,0)),"") | F17: =IFERROR(INDEX(Equipment!F:F,MATCH(13,Equipment!$K:$K,0)),"") | G17: =IFERROR(INDEX(Equipment!G:G,MATCH(13,Equipment!$K:$K,0)),"") | H17: =IFERROR(INDEX(Equipment!H:H,MATCH(13,Equipment!$K:$K,0)),"")
A18: =IFERROR(INDEX(Equipment!A:A,MATCH(14,Equipment!$K:$K,0)),"") | B18: =IFERROR(INDEX(Equipment!B:B,MATCH(14,Equipment!$K:$K,0)),"") | C18: =IFERROR(INDEX(Equipment!C:C,MATCH(14,Equipment!$K:$K,0)),"") | D18: =IFERROR(INDEX(Equipment!D:D,MATCH(14,Equipment!$K:$K,0)),"") | E18: =IFERROR(INDEX(Equipment!E:E,MATCH(14,Equipment!$K:$K,0)),"") | F18: =IFERROR(INDEX(Equipment!F:F,MATCH(14,Equipment!$K:$K,0)),"") | G18: =IFERROR(INDEX(Equipment!G:G,MATCH(14,Equipment!$K:$K,0)),"") | H18: =IFERROR(INDEX(Equipment!H:H,MATCH(14,Equipment!$K:$K,0)),"")
A19: =IFERROR(INDEX(Equipment!A:A,MATCH(15,Equipment!$K:$K,0)),"") | B19: =IFERROR(INDEX(Equipment!B:B,MATCH(15,Equipment!$K:$K,0)),"") | C19: =IFERROR(INDEX(Equipment!C:C,MATCH(15,Equipment!$K:$K,0)),"") | D19: =IFERROR(INDEX(Equipment!D:D,MATCH(15,Equipment!$K:$K,0)),"") | E19: =IFERROR(INDEX(Equipment!E:E,MATCH(15,Equipment!$K:$K,0)),"") | F19: =IFERROR(INDEX(Equipment!F:F,MATCH(15,Equipment!$K:$K,0)),"") | G19: =IFERROR(INDEX(Equipment!G:G,MATCH(15,Equipment!$K:$K,0)),"") | H19: =IFERROR(INDEX(Equipment!H:H,MATCH(15,Equipment!$K:$K,0)),"")
A20: =IFERROR(INDEX(Equipment!A:A,MATCH(16,Equipment!$K:$K,0)),"") | B20: =IFERROR(INDEX(Equipment!B:B,MATCH(16,Equipment!$K:$K,0)),"") | C20: =IFERROR(INDEX(Equipment!C:C,MATCH(16,Equipment!$K:$K,0)),"") | D20: =IFERROR(INDEX(Equipment!D:D,MATCH(16,Equipment!$K:$K,0)),"") | E20: =IFERROR(INDEX(Equipment!E:E,MATCH(16,Equipment!$K:$K,0)),"") | F20: =IFERROR(INDEX(Equipment!F:F,MATCH(16,Equipment!$K:$K,0)),"") | G20: =IFERROR(INDEX(Equipment!G:G,MATCH(16,Equipment!$K:$K,0)),"") | H20: =IFERROR(INDEX(Equipment!H:H,MATCH(16,Equipment!$K:$K,0)),"")
A21: =IFERROR(INDEX(Equipment!A:A,MATCH(17,Equipment!$K:$K,0)),"") | B21: =IFERROR(INDEX(Equipment!B:B,MATCH(17,Equipment!$K:$K,0)),"") | C21: =IFERROR(INDEX(Equipment!C:C,MATCH(17,Equipment!$K:$K,0)),"") | D21: =IFERROR(INDEX(Equipment!D:D,MATCH(17,Equipment!$K:$K,0)),"") | E21: =IFERROR(INDEX(Equipment!E:E,MATCH(17,Equipment!$K:$K,0)),"") | F21: =IFERROR(INDEX(Equipment!F:F,MATCH(17,Equipment!$K:$K,0)),"") | G21: =IFERROR(INDEX(Equipment!G:G,MATCH(17,Equipment!$K:$K,0)),"") | H21: =IFERROR(INDEX(Equipment!H:H,MATCH(17,Equipment!$K:$K,0)),"")
A22: =IFERROR(INDEX(Equipment!A:A,MATCH(18,Equipment!$K:$K,0)),"") | B22: =IFERROR(INDEX(Equipment!B:B,MATCH(18,Equipment!$K:$K,0)),"") | C22: =IFERROR(INDEX(Equipment!C:C,MATCH(18,Equipment!$K:$K,0)),"") | D22: =IFERROR(INDEX(Equipment!D:D,MATCH(18,Equipment!$K:$K,0)),"") | E22: =IFERROR(INDEX(Equipment!E:E,MATCH(18,Equipment!$K:$K,0)),"") | F22: =IFERROR(INDEX(Equipment!F:F,MATCH(18,Equipment!$K:$K,0)),"") | G22: =IFERROR(INDEX(Equipment!G:G,MATCH(18,Equipment!$K:$K,0)),"") | H22: =IFERROR(INDEX(Equipment!H:H,MATCH(18,Equipment!$K:$K,0)),"")
A23: =IFERROR(INDEX(Equipment!A:A,MATCH(19,Equipment!$K:$K,0)),"") | B23: =IFERROR(INDEX(Equipment!B:B,MATCH(19,Equipment!$K:$K,0)),"") | C23: =IFERROR(INDEX(Equipment!C:C,MATCH(19,Equipment!$K:$K,0)),"") | D23: =IFERROR(INDEX(Equipment!D:D,MATCH(19,Equipment!$K:$K,0)),"") | E23: =IFERROR(INDEX(Equipment!E:E,MATCH(19,Equipment!$K:$K,0)),"") | F23: =IFERROR(INDEX(Equipment!F:F,MATCH(19,Equipment!$K:$K,0)),"") | G23: =IFERROR(INDEX(Equipment!G:G,MATCH(19,Equipment!$K:$K,0)),"") | H23: =IFERROR(INDEX(Equipment!H:H,MATCH(19,Equipment!$K:$K,0)),"")
A24: =IFERROR(INDEX(Equipment!A:A,MATCH(20,Equipment!$K:$K,0)),"") | B24: =IFERROR(INDEX(Equipment!B:B,MATCH(20,Equipment!$K:$K,0)),"") | C24: =IFERROR(INDEX(Equipment!C:C,MATCH(20,Equipment!$K:$K,0)),"") | D24: =IFERROR(INDEX(Equipment!D:D,MATCH(20,Equipment!$K:$K,0)),"") | E24: =IFERROR(INDEX(Equipment!E:E,MATCH(20,Equipment!$K:$K,0)),"") | F24: =IFERROR(INDEX(Equipment!F:F,MATCH(20,Equipment!$K:$K,0)),"") | G24: =IFERROR(INDEX(Equipment!G:G,MATCH(20,Equipment!$K:$K,0)),"") | H24: =IFERROR(INDEX(Equipment!H:H,MATCH(20,Equipment!$K:$K,0)),"")
A25: =IFERROR(INDEX(Equipment!A:A,MATCH(21,Equipment!$K:$K,0)),"") | B25: =IFERROR(INDEX(Equipment!B:B,MATCH(21,Equipment!$K:$K,0)),"") | C25: =IFERROR(INDEX(Equipment!C:C,MATCH(21,Equipment!$K:$K,0)),"") | D25: =IFERROR(INDEX(Equipment!D:D,MATCH(21,Equipment!$K:$K,0)),"") | E25: =IFERROR(INDEX(Equipment!E:E,MATCH(21,Equipment!$K:$K,0)),"") | F25: =IFERROR(INDEX(Equipment!F:F,MATCH(21,Equipment!$K:$K,0)),"") | G25: =IFERROR(INDEX(Equipment!G:G,MATCH(21,Equipment!$K:$K,0)),"") | H25: =IFERROR(INDEX(Equipment!H:H,MATCH(21,Equipment!$K:$K,0)),"")
A26: =IFERROR(INDEX(Equipment!A:A,MATCH(22,Equipment!$K:$K,0)),"") | B26: =IFERROR(INDEX(Equipment!B:B,MATCH(22,Equipment!$K:$K,0)),"") | C26: =IFERROR(INDEX(Equipment!C:C,MATCH(22,Equipment!$K:$K,0)),"") | D26: =IFERROR(INDEX(Equipment!D:D,MATCH(22,Equipment!$K:$K,0)),"") | E26: =IFERROR(INDEX(Equipment!E:E,MATCH(22,Equipment!$K:$K,0)),"") | F26: =IFERROR(INDEX(Equipment!F:F,MATCH(22,Equipment!$K:$K,0)),"") | G26: =IFERROR(INDEX(Equipment!G:G,MATCH(22,Equipment!$K:$K,0)),"") | H26: =IFERROR(INDEX(Equipment!H:H,MATCH(22,Equipment!$K:$K,0)),"")
A27: =IFERROR(INDEX(Equipment!A:A,MATCH(23,Equipment!$K:$K,0)),"") | B27: =IFERROR(INDEX(Equipment!B:B,MATCH(23,Equipment!$K:$K,0)),"") | C27: =IFERROR(INDEX(Equipment!C:C,MATCH(23,Equipment!$K:$K,0)),"") | D27: =IFERROR(INDEX(Equipment!D:D,MATCH(23,Equipment!$K:$K,0)),"") | E27: =IFERROR(INDEX(Equipment!E:E,MATCH(23,Equipment!$K:$K,0)),"") | F27: =IFERROR(INDEX(Equipment!F:F,MATCH(23,Equipment!$K:$K,0)),"") | G27: =IFERROR(INDEX(Equipment!G:G,MATCH(23,Equipment!$K:$K,0)),"") | H27: =IFERROR(INDEX(Equipment!H:H,MATCH(23,Equipment!$K:$K,0)),"")
A28: =IFERROR(INDEX(Equipment!A:A,MATCH(24,Equipment!$K:$K,0)),"") | B28: =IFERROR(INDEX(Equipment!B:B,MATCH(24,Equipment!$K:$K,0)),"") | C28: =IFERROR(INDEX(Equipment!C:C,MATCH(24,Equipment!$K:$K,0)),"") | D28: =IFERROR(INDEX(Equipment!D:D,MATCH(24,Equipment!$K:$K,0)),"") | E28: =IFERROR(INDEX(Equipment!E:E,MATCH(24,Equipment!$K:$K,0)),"") | F28: =IFERROR(INDEX(Equipment!F:F,MATCH(24,Equipment!$K:$K,0)),"") | G28: =IFERROR(INDEX(Equipment!G:G,MATCH(24,Equipment!$K:$K,0)),"") | H28: =IFERROR(INDEX(Equipment!H:H,MATCH(24,Equipment!$K:$K,0)),"")
A29: =IFERROR(INDEX(Equipment!A:A,MATCH(25,Equipment!$K:$K,0)),"") | B29: =IFERROR(INDEX(Equipment!B:B,MATCH(25,Equipment!$K:$K,0)),"") | C29: =IFERROR(INDEX(Equipment!C:C,MATCH(25,Equipment!$K:$K,0)),"") | D29: =IFERROR(INDEX(Equipment!D:D,MATCH(25,Equipment!$K:$K,0)),"") | E29: =IFERROR(INDEX(Equipment!E:E,MATCH(25,Equipment!$K:$K,0)),"") | F29: =IFERROR(INDEX(Equipment!F:F,MATCH(25,Equipment!$K:$K,0)),"") | G29: =IFERROR(INDEX(Equipment!G:G,MATCH(25,Equipment!$K:$K,0)),"") | H29: =IFERROR(INDEX(Equipment!H:H,MATCH(25,Equipment!$K:$K,0)),"")
A30: =IFERROR(INDEX(Equipment!A:A,MATCH(26,Equipment!$K:$K,0)),"") | B30: =IFERROR(INDEX(Equipment!B:B,MATCH(26,Equipment!$K:$K,0)),"") | C30: =IFERROR(INDEX(Equipment!C:C,MATCH(26,Equipment!$K:$K,0)),"") | D30: =IFERROR(INDEX(Equipment!D:D,MATCH(26,Equipment!$K:$K,0)),"") | E30: =IFERROR(INDEX(Equipment!E:E,MATCH(26,Equipment!$K:$K,0)),"") | F30: =IFERROR(INDEX(Equipment!F:F,MATCH(26,Equipment!$K:$K,0)),"") | G30: =IFERROR(INDEX(Equipment!G:G,MATCH(26,Equipment!$K:$K,0)),"") | H30: =IFERROR(INDEX(Equipment!H:H,MATCH(26,Equipment!$K:$K,0)),"")
A31: =IFERROR(INDEX(Equipment!A:A,MATCH(27,Equipment!$K:$K,0)),"") | B31: =IFERROR(INDEX(Equipment!B:B,MATCH(27,Equipment!$K:$K,0)),"") | C31: =IFERROR(INDEX(Equipment!C:C,MATCH(27,Equipment!$K:$K,0)),"") | D31: =IFERROR(INDEX(Equipment!D:D,MATCH(27,Equipment!$K:$K,0)),"") | E31: =IFERROR(INDEX(Equipment!E:E,MATCH(27,Equipment!$K:$K,0)),"") | F31: =IFERROR(INDEX(Equipment!F:F,MATCH(27,Equipment!$K:$K,0)),"") | G31: =IFERROR(INDEX(Equipment!G:G,MATCH(27,Equipment!$K:$K,0)),"") | H31: =IFERROR(INDEX(Equipment!H:H,MATCH(27,Equipment!$K:$K,0)),"")
A32: =IFERROR(INDEX(Equipment!A:A,MATCH(28,Equipment!$K:$K,0)),"") | B32: =IFERROR(INDEX(Equipment!B:B,MATCH(28,Equipment!$K:$K,0)),"") | C32: =IFERROR(INDEX(Equipment!C:C,MATCH(28,Equipment!$K:$K,0)),"") | D32: =IFERROR(INDEX(Equipment!D:D,MATCH(28,Equipment!$K:$K,0)),"") | E32: =IFERROR(INDEX(Equipment!E:E,MATCH(28,Equipment!$K:$K,0)),"") | F32: =IFERROR(INDEX(Equipment!F:F,MATCH(28,Equipment!$K:$K,0)),"") | G32: =IFERROR(INDEX(Equipment!G:G,MATCH(28,Equipment!$K:$K,0)),"") | H32: =IFERROR(INDEX(Equipment!H:H,MATCH(28,Equipment!$K:$K,0)),"")
A33: =IFERROR(INDEX(Equipment!A:A,MATCH(29,Equipment!$K:$K,0)),"") | B33: =IFERROR(INDEX(Equipment!B:B,MATCH(29,Equipment!$K:$K,0)),"") | C33: =IFERROR(INDEX(Equipment!C:C,MATCH(29,Equipment!$K:$K,0)),"") | D33: =IFERROR(INDEX(Equipment!D:D,MATCH(29,Equipment!$K:$K,0)),"") | E33: =IFERROR(INDEX(Equipment!E:E,MATCH(29,Equipment!$K:$K,0)),"") | F33: =IFERROR(INDEX(Equipment!F:F,MATCH(29,Equipment!$K:$K,0)),"") | G33: =IFERROR(INDEX(Equipment!G:G,MATCH(29,Equipment!$K:$K,0)),"") | H33: =IFERROR(INDEX(Equipment!H:H,MATCH(29,Equipment!$K:$K,0)),"")
A34: =IFERROR(INDEX(Equipment!A:A,MATCH(30,Equipment!$K:$K,0)),"") | B34: =IFERROR(INDEX(Equipment!B:B,MATCH(30,Equipment!$K:$K,0)),"") | C34: =IFERROR(INDEX(Equipment!C:C,MATCH(30,Equipment!$K:$K,0)),"") | D34: =IFERROR(INDEX(Equipment!D:D,MATCH(30,Equipment!$K:$K,0)),"") | E34: =IFERROR(INDEX(Equipment!E:E,MATCH(30,Equipment!$K:$K,0)),"") | F34: =IFERROR(INDEX(Equipment!F:F,MATCH(30,Equipment!$K:$K,0)),"") | G34: =IFERROR(INDEX(Equipment!G:G,MATCH(30,Equipment!$K:$K,0)),"") | H34: =IFERROR(INDEX(Equipment!H:H,MATCH(30,Equipment!$K:$K,0)),"")
A35: =IFERROR(INDEX(Equipment!A:A,MATCH(31,Equipment!$K:$K,0)),"") | B35: =IFERROR(INDEX(Equipment!B:B,MATCH(31,Equipment!$K:$K,0)),"") | C35: =IFERROR(INDEX(Equipment!C:C,MATCH(31,Equipment!$K:$K,0)),"") | D35: =IFERROR(INDEX(Equipment!D:D,MATCH(31,Equipment!$K:$K,0)),"") | E35: =IFERROR(INDEX(Equipment!E:E,MATCH(31,Equipment!$K:$K,0)),"") | F35: =IFERROR(INDEX(Equipment!F:F,MATCH(31,Equipment!$K:$K,0)),"") | G35: =IFERROR(INDEX(Equipment!G:G,MATCH(31,Equipment!$K:$K,0)),"") | H35: =IFERROR(INDEX(Equipment!H:H,MATCH(31,Equipment!$K:$K,0)),"")
A36: =IFERROR(INDEX(Equipment!A:A,MATCH(32,Equipment!$K:$K,0)),"") | B36: =IFERROR(INDEX(Equipment!B:B,MATCH(32,Equipment!$K:$K,0)),"") | C36: =IFERROR(INDEX(Equipment!C:C,MATCH(32,Equipment!$K:$K,0)),"") | D36: =IFERROR(INDEX(Equipment!D:D,MATCH(32,Equipment!$K:$K,0)),"") | E36: =IFERROR(INDEX(Equipment!E:E,MATCH(32,Equipment!$K:$K,0)),"") | F36: =IFERROR(INDEX(Equipment!F:F,MATCH(32,Equipment!$K:$K,0)),"") | G36: =IFERROR(INDEX(Equipment!G:G,MATCH(32,Equipment!$K:$K,0)),"") | H36: =IFERROR(INDEX(Equipment!H:H,MATCH(32,Equipment!$K:$K,0)),"")
A37: =IFERROR(INDEX(Equipment!A:A,MATCH(33,Equipment!$K:$K,0)),"") | B37: =IFERROR(INDEX(Equipment!B:B,MATCH(33,Equipment!$K:$K,0)),"") | C37: =IFERROR(INDEX(Equipment!C:C,MATCH(33,Equipment!$K:$K,0)),"") | D37: =IFERROR(INDEX(Equipment!D:D,MATCH(33,Equipment!$K:$K,0)),"") | E37: =IFERROR(INDEX(Equipment!E:E,MATCH(33,Equipment!$K:$K,0)),"") | F37: =IFERROR(INDEX(Equipment!F:F,MATCH(33,Equipment!$K:$K,0)),"") | G37: =IFERROR(INDEX(Equipment!G:G,MATCH(33,Equipment!$K:$K,0)),"") | H37: =IFERROR(INDEX(Equipment!H:H,MATCH(33,Equipment!$K:$K,0)),"")
A38: =IFERROR(INDEX(Equipment!A:A,MATCH(34,Equipment!$K:$K,0)),"") | B38: =IFERROR(INDEX(Equipment!B:B,MATCH(34,Equipment!$K:$K,0)),"") | C38: =IFERROR(INDEX(Equipment!C:C,MATCH(34,Equipment!$K:$K,0)),"") | D38: =IFERROR(INDEX(Equipment!D:D,MATCH(34,Equipment!$K:$K,0)),"") | E38: =IFERROR(INDEX(Equipment!E:E,MATCH(34,Equipment!$K:$K,0)),"") | F38: =IFERROR(INDEX(Equipment!F:F,MATCH(34,Equipment!$K:$K,0)),"") | G38: =IFERROR(INDEX(Equipment!G:G,MATCH(34,Equipment!$K:$K,0)),"") | H38: =IFERROR(INDEX(Equipment!H:H,MATCH(34,Equipment!$K:$K,0)),"")
A39: =IFERROR(INDEX(Equipment!A:A,MATCH(35,Equipment!$K:$K,0)),"") | B39: =IFERROR(INDEX(Equipment!B:B,MATCH(35,Equipment!$K:$K,0)),"") | C39: =IFERROR(INDEX(Equipment!C:C,MATCH(35,Equipment!$K:$K,0)),"") | D39: =IFERROR(INDEX(Equipment!D:D,MATCH(35,Equipment!$K:$K,0)),"") | E39: =IFERROR(INDEX(Equipment!E:E,MATCH(35,Equipment!$K:$K,0)),"") | F39: =IFERROR(INDEX(Equipment!F:F,MATCH(35,Equipment!$K:$K,0)),"") | G39: =IFERROR(INDEX(Equipment!G:G,MATCH(35,Equipment!$K:$K,0)),"") | H39: =IFERROR(INDEX(Equipment!H:H,MATCH(35,Equipment!$K:$K,0)),"")
A40: =IFERROR(INDEX(Equipment!A:A,MATCH(36,Equipment!$K:$K,0)),"") | B40: =IFERROR(INDEX(Equipment!B:B,MATCH(36,Equipment!$K:$K,0)),"") | C40: =IFERROR(INDEX(Equipment!C:C,MATCH(36,Equipment!$K:$K,0)),"") | D40: =IFERROR(INDEX(Equipment!D:D,MATCH(36,Equipment!$K:$K,0)),"") | E40: =IFERROR(INDEX(Equipment!E:E,MATCH(36,Equipment!$K:$K,0)),"") | F40: =IFERROR(INDEX(Equipment!F:F,MATCH(36,Equipment!$K:$K,0)),"") | G40: =IFERROR(INDEX(Equipment!G:G,MATCH(36,Equipment!$K:$K,0)),"") | H40: =IFERROR(INDEX(Equipment!H:H,MATCH(36,Equipment!$K:$K,0)),"")
A41: =IFERROR(INDEX(Equipment!A:A,MATCH(37,Equipment!$K:$K,0)),"") | B41: =IFERROR(INDEX(Equipment!B:B,MATCH(37,Equipment!$K:$K,0)),"") | C41: =IFERROR(INDEX(Equipment!C:C,MATCH(37,Equipment!$K:$K,0)),"") | D41: =IFERROR(INDEX(Equipment!D:D,MATCH(37,Equipment!$K:$K,0)),"") | E41: =IFERROR(INDEX(Equipment!E:E,MATCH(37,Equipment!$K:$K,0)),"") | F41: =IFERROR(INDEX(Equipment!F:F,MATCH(37,Equipment!$K:$K,0)),"") | G41: =IFERROR(INDEX(Equipment!G:G,MATCH(37,Equipment!$K:$K,0)),"") | H41: =IFERROR(INDEX(Equipment!H:H,MATCH(37,Equipment!$K:$K,0)),"")
...
